Workbook
Name OLE_LINK1: '2 lentele tūkst. Eur'!$BX$22
Name OLE_LINK1: '2 lentele tūkst. Lt '!$BX$22

Sheet 2 lentele tūkst. Lt 
BZ3: 2 lentelė
A4: 2014-2016 METŲ SAVIVALDYBĖS VEIKLOS, PAGRINDINIŲ FUNKCIJŲ VYKDYMO, STRATEGIJOS FORMAVIMO IR JOS ĮGYVENDINIMO PROGRAMOS
A5: TIKSLŲ, UŽDAVINIŲ IR PRIEMONIŲ IŠLAIDŲ SUVESTINĖ
CA6: tūkst. Lt
A7: Programos tikslo kodas | B7: Uždavinio kodas | C7: Priemonės kodas | D7: Priemonės pavadinimas | E7: Funkcinės klasifikacijos kodas | F7: Asignavimų valdytojo kodas | G7: Priemonės vykdytojo kodas | L7: 2014 | AB7: 2015 | AR7: 2016 | BH7: 2017 | BX7: Uždavinio vertinimo kriterijus
H8: 2012 m. išlaidų projektas | L8: Lėšos pagal finansavimo šaltinius | X8: Savivaldybės biudžeto patvirtinti asignavimai | AB8: Lėšos pagal finansavimo šaltinius | AN8: Numatomi Savivaldybės biudžeto asignavimai | AR8: Lėšos pagal finansavimo šaltinius | BD8: Numatomi Savivaldybės biudžeto asignavimai | BH8: Lėšos pagal finansavimo šaltinius | BT8: Numatomi Savivaldybės biudžeto asignavimai | BX8: Pavadinimas | BY8: Metai
H9: Iš viso | I9: Išlaidoms | K9: Turtui įsigyti ir finansiniams įsipareigojimams vykdyti | L9: Valstybės biudžetas | P9: Savivaldybės biudžetas | T9: ES lėšos | U9: Kitos lėšos | X9: Iš viso | Y9: Išlaidoms | AA9: Turtui įsigyti ir finansiniams įsipareigojimams vykdyti | AB9: Valstybės biudžetas | AF9: Savivaldybės biudžetas | AJ9: ES lėšos | AK9: Kitos lėšos | AN9: Iš viso | AO9: Išlaidoms | AQ9: Turtui įsigyti ir finansiniams įsipareigojimams vykdyti | AR9: Valstybės biudžetas | AV9: Savivaldybės biudžetas | AZ9: ES lėšos | BA9: Kitos lėšos | BD9: Iš viso | BE9: Išlaidoms | BG9: Turtui įsigyti ir finansiniams įsipareigojimams vykdyti | BH9: Valstybės biudžetas | BL9: Savivaldybės biudžetas | BP9: ES lėšos | BQ9: Kitos lėšos | BT9: Iš viso | BU9: Išlaidoms | BW9: Turtui įsigyti ir finansiniams įsipareigojimams vykdyti | BY9: 2014 | BZ9: 2015 | CA9: 2016 | CB9: 2017
I10: Iš viso | J10: Iš jų - darbo užmokesčiui | L10: Valstybės biudžetas | M10: Kelių priežiūros ir plėtros programos lėšos | N10: VIP lėšos | O10: Privalomojo sveikatos draudimo lėšos | P10: Savivaldybės biudžetas | Q10: Valstybės biudžeto spec. tikslinė dotacija | R10: Aplinkos apsaugos rėmimo spec. programa | S10: Biudžetinių įstaigų pajamos | U10: Paskolos lėšos | V10: Privatizavimo fondo lėšos | W10: Kiti finansavimo šaltiniai | Y10: Iš viso | Z10: Iš jų - darbo užmokesčiui | AB10: Valstybės biudžetas | AC10: Kelių priežiūros ir plėtros programos lėšos | AD10: VIP lėšos | AE10: Privalomojo sveikatos draudimo lėšos | AF10: Savivaldybės biudžetas | AG10: Valstybės biudžeto spec. tikslinė dotacija | AH10: Aplinkos apsaugos rėmimo spec. programa | AI10: Biudžetinių įstaigų pajamos | AK10: Paskolos lėšos | AL10: Privatizavimo fondo lėšos | AM10: Kiti finansavimo šaltiniai | AO10: Iš viso | AP10: Iš jų - darbo užmokesčiui | AR10: Valstybės biudžetas | AS10: Kelių priežiūros ir plėtros programos lėšos | AT10: VIP lėšos | AU10: Privalomojo sveikatos draudimo lėšos | AV10: Savivaldybės biudžetas | AW10: Valstybės biudžeto spec. tikslinė dotacija | AX10: Aplinkos apsaugos rėmimo spec. programa | AY10: Biudžetinių įstaigų pajamos | BA10: Paskolos lėšos | BB10: Privatizavimo fondo lėšos | BC10: Kiti finansavimo šaltiniai | BE10: Iš viso | BF10: Iš jų - darbo užmokesčiui | BH10: Valstybės biudžetas | BI10: Kelių priežiūros ir plėtros programos lėšos | BJ10: VIP lėšos | BK10: Privalomojo sveikatos draudimo lėšos | BL10: Savivaldybės biudžetas | BM10: Valstybės biudžeto spec. tikslinė dotacija | BN10: Aplinkos apsaugos rėmimo spec. programa | BO10: Biudžetinių įstaigų pajamos | BQ10: Paskolos lėšos | BR10: Privatizavimo fondo lėšos | BS10: Kiti finansavimo šaltiniai | BU10: Iš viso | BV10: Iš jų - darbo užmokesčiui
A11: 02 PROGRAMA.SAVIVALDYBĖS VEIKLOS, PAGRINDINIŲ FUNKCIJŲ VYKDYMO, STRATEGIJOS FORMAVIMO IR JOS ĮGYVENDINIMO
A12: 01
A13: 01 | B13: Efektyviai organizuoti Savivaldybės darbą, tinkamai įgyvendinant jos funkcijas
A14: 01 | B14: 01 | C14: Sudaryti sąlygas Savivaldybės funkcijoms įgyvendinti
A15: 01 | B15: 01 | C15: 01 | D15: Savivaldos institucijų veiklos organizavimas( Savivaldybės taryba) | E15: 01 | F15: 188718528 | G15: A0 | P15: 950 | X15: =P15 -> 950 | Y15: =X15-AA15 -> 938 | Z15: 365 | AA15: 12 | AF15: 0 | AN15: =AF15 -> 0 | AO15: 0 | AP15: 0 | AQ15: 0 | AV15: 0 | BD15: =AV15 -> 0 | BE15: 0 | BF15: 0 | BG15: 0 | BL15: 0 | BT15: =BL15 -> 0 | BU15: 0 | BV15: 0 | BW15: 0
D16: Savivaldybės tarybos finansinio, ūkinio bei materialinio aptarnavimo užtikrinimas
A17: 01 | B17: 01 | C17: 02 | D17: Savivaldybės administracijos veiklos programos organizavimas | E17: 01 | F17: 188718528 | G17: A0 | P17: 5021.1 | X17: =SUM(P17:Q17) -> 5021.1 | Y17: 4933.7 | Z17: 2747.6 | AA17: 87.4 | AF17: 0 | AN17: =SUM(AF17:AG17) -> 0 | AO17: 0 | AP17: 0 | AQ17: 0 | AV17: 0 | BD17: =SUM(AV17:AW17) -> 0 | BE17: 0 | BF17: 0 | BG17: 0 | BL17: 0 | BT17: =SUM(BL17:BM17) -> 0 | BU17: 0 | BV17: 0 | BW17: 0
D18: Administracija ( bendrų ekonominių ir soc. planų ir programų formulavimas, koordinavimas, priežiūra, administravimas ir valdymas)
A19: 01 | B19: 01 | C19: 03 | D19: Įsigytų objektų už ES lėšas draudimas | E19: 01 | F19: 188718528 | G19: A0 | P19: 60 | X19: =P19 -> 60 | Y19: =P19 -> 60 | Z19: 0 | AA19: 0 | AF19: 0 | AN19: =AF19 -> 0 | AO19: =AF19 -> 0 | AP19: 0 | AQ19: 0 | AV19: 0 | BD19: =AV19 -> 0 | BE19: =AV19 -> 0 | BF19: 0 | BG19: 0 | BL19: 0 | BT19: =BL19 -> 0 | BU19: =BL19 -> 0 | BV19: 0 | BW19: 0
A20: 01 | B20: 01 | C20: 04 | D20: Civilinės būklės aktų registravimas | E20: 01 | F20: 188718528 | G20: A2 | P20: 17 | X20: 17 | Y20: 17 | Z20: 0 | AA20: 0 | AF20: 0 | AN20: =AF20 -> 0 | AO20: =AF20 -> 0 | AP20: 0 | AQ20: 0 | AV20: 0 | BD20: =AV20 -> 0 | BE20: =BD20 -> 0 | BF20: =AX20 -> 0 | BG20: =AZ20 -> 0 | BL20: 0 | BT20: =BM20 -> 0 | BU20: =BL20 -> 0 | BV20: 0 | BW20: 0
A22: 01 | B22: 01 | C22: 05 | D22: Valstybinės kalbos vartojimo ir taisyklingumo kontrolė | E22: 01 | F22: 188718528 | G22: A3 | P22: 25.2 | X22: =P22 -> 25.2 | Y22: =X22 -> 25.2 | Z22: 19.2 | AA22: 0 | AF22: 0 | AN22: 0 | AO22: 0 | AP22: 0 | AQ22: 0 | AV22: 0 | BD22: 0 | BE22: 0 | BF22: 0 | BG22: 0 | BL22: 0 | BT22: 0 | BU22: 0 | BV22: 0 | BW22: 0 | BX22: Informacinė ir šviečiamoji veikla: Atminties interneto svetainėje ,vnt. Suteikta rekomendacijų, vnt. | BY22: 15 70 | BZ22: 10 75 | CA22: 15 70 | CB22: 15 77
BX23: Per metus patikrinta:
BX24: Įstaigų dokumentų, vnt. | BY24: 200 | BZ24: 250 | CA24: 210 | CB24: 230
BX25: Visuomenės informavimo priemonių, vnt. | BY25: 40 | BZ25: 49 | CA25: 42 | CB25: 46
BX26: Reklamos ir viešųjų užrašų,vnt. | BY26: 75 | BZ26: 82 | CA26: 80 | CB26: 85
BX27: Suteikta konsultacijų juridiniams ir fiziniams asmenims, vnt. | BY27: 133 | BZ27: 140 | CA27: 139 | CB27: 139
A28: 01 | B28: 01 | C28: 06 | D28: Gyvenamųjų ir negyvenamųjų patalpų nuoma (pajamos už paslaugas) | E28: 01 | F28: 188718528 | G28: A0 | P28: 24.1 | X28: =P28 -> 24.1 | Y28: 24.1 | Z28: 0 | AA28: 0 | AF28: 0 | AN28: =0 -> 0 | AO28: =AN28 -> 0 | AP28: 0 | AQ28: 0 | BD28: =AV28 -> 0 | BE28: 0 | BF28: 0 | BG28: 0 | BL28: 0 | BT28: =BL28 -> 0 | BU28: =BL28 -> 0 | BV28: 0 | BW28: 0
A29: 01 | B29: 01 | C29: 07 | D29: Poliklinikos pastato Alytuje, Naujoji g. 48, energetinio efektyvumo didinimas, rekonstravimas | E29: 01 | F29: 188718528 | G29: A0 | N29: 320 | X29: =N29 -> 320 | Y29: 0 | Z29: 0 | AA29: 320 | AD29: 0 | AN29: =AD29 -> 0 | AO29: =0 -> 0 | AP29: 0 | AQ29: 0 | AT29: 0 | BD29: =AT29 -> 0 | BE29: 0 | BF29: 0 | BG29: 0 | BJ29: 0 | BT29: =BJ29 -> 0 | BU29: 0 | BV29: 0 | BW29: 0 | BX29: Įgyvendintas projektas, vnt | BY29: 1 | BZ29: 1 | CA29: 1 | CB29: 1
A30: 01 | B30: 01 | C30: 08 | D30: Savivaldybei priskirtų archyvinių dokumentų tvarkymas pajamos už paslaugas) | E30: 01 | F30: 188718528 | G30: A3 | P30: 1 | X30: 1 | Y30: 1 | Z30: 0 | AA30: 0 | AF30: 0 | AN30: =AF30 -> 0 | AO30: =AF30 -> 0 | AP30: 0 | AQ30: 0 | AV30: 0 | BD30: =AV30 -> 0 | BE30: =AV30 -> 0 | BF30: 0 | BG30: 0 | BL30: 0 | BT30: =BL30 -> 0 | BU30: =BL30 -> 0 | BV30: 0 | BW30: 0
A31: 01 | B31: 01 | C31: Iš viso uždaviniui | H31: =SUM(H16:H29) -> 0 | I31: =SUM(I16:I29) -> 0 | J31: =SUM(J16:J29) -> 0 | K31: =SUM(K16:K29) -> 0 | N31: =N15+N17+N19+N20+N22+N28+N29+N30 -> 320 | P31: =P15+P17+P19+P20+P22+P28+P29+P30 -> 6098.4 | X31: =X15+X17+X19+X20+X22+X28+X29+X30 -> 6418.4 | Y31: =Y15+Y17+Y19+Y20+Y22+Y28+Y29+Y30 -> 5999 | Z31: =Z15+Z17+Z19+Z20+Z22+Z28+Z29+Z30 -> 3131.8 | AA31: =AA15+AA17+AA19+AA20+AA22+AA28+AA29+AA30 -> 419.4 | AD31: =AD15+AD17+AD19+AD20+AD22+AD28+AD29+AD30 -> 0 | AF31: =AF15+AF17+AF19+AF20+AF22+AF28+AF29+AF30 -> 0 | AN31: =AN15+AN17+AN19+AN20+AN22+AN28+AN29+AN30 -> 0 | AO31: =AO15+AO17+AO19+AO20+AO22+AO28+AO29+AO30 -> 0 | AP31: =AP15+AP17+AP19+AP20+AP22+AP28+AP29+AP30 -> 0 | AQ31: =AQ15+AQ17+AQ19+AQ20+AQ22+AQ28+AQ29+AQ30 -> 0 | AT31: =AT15+AT17+AT19+AT20+AT22+AT28+AT29+AT30 -> 0 | AV31: =AV15+AV17+AV19+AV20+AV22+AV28+AV29+AV30 -> 0 | BD31: =BD15+BD17+BD19+BD20+BD22+BD28+BD29+BD30 -> 0 | BE31: =BE15+BE17+BE19+BE20+BE22+BE28+BE29+BE30 -> 0 | BF31: =BF15+BF17+BF19+BF20+BF22+BF28+BF29+BF30 -> 0 | BG31: =BG15+BG17+BG19+BG20+BG22+BG28+BG29+BG30 -> 0 | BJ31: =BJ15+BJ17+BJ19+BJ20+BJ22+BJ28+BJ29+BJ30 -> 0 | BL31: =BL15+BL17+BL19+BL20+BL22+BL28+BL29+BL30 -> 0 | BT31: =BT15+BT17+BT19+BT20+BT22+BT28+BT29+BT30 -> 0 | BU31: =BU15+BU17+BU19+BU20+BU22+BU28+BU29+BU30 -> 0 | BV31: =BV15+BV17+BV19+BV20+BV22+BV28+BV29+BV30 -> 0 | BW31: =BW15+BW17+BW19+BW20+BW22+BW28+BW29+BW30 -> 0
A32: 01 | B32: 02 | C32: Vykdyti valstybines ( perduotas savivaldybei) funkcijas
A33: 01 | B33: 02 | C33: 01 | D33: Gyvenamosios vietos deklaravimo duomenų ir gyvenamosios vietos neturinčių asmenų apskaitos duomenų tvarkymas | E33: 01 | F33: 188718528 | G33: A2 | Q33: 37.5 | X33: =Q33 -> 37.5 | Y33: =X33 -> 37.5 | Z33: 7.8 | AA33: 0 | AG33: 0 | AN33: =AG33 -> 0 | AO33: =AN33 -> 0 | AP33: 0 | AQ33: 0 | AW33: 0 | BD33: =AW33 -> 0 | BE33: =BD33 -> 0 | BF33: 0 | BG33: 0 | BM33: 37.5 | BT33: =BM33 -> 37.5 | BU33: =BT33 -> 37.5 | BV33: 7.8 | BW33: 0 | BX33: Įregistruota santuokų, vnt | BY33: 75 | BZ33: 75 | CA33: 75 | CB33: 75
A34: 01 | B34: 02 | C34: 02 | D34: Duomenų teikimas suteiktos valstybės pagalbos registrui | E34: 01 | F34: 188718528 | G34: A2 | Q34: 2 | X34: 2 | Y34: 2 | Z34: 1.5 | AA34: 0 | AG34: 0 | AN34: =AG34 -> 0 | AO34: =AG34 -> 0 | AP34: 0 | AQ34: 0 | AW34: 0 | BD34: =AW34 -> 0 | BE34: =AW34 -> 0 | BF34: 0 | BG34: 0 | BM34: 2.4 | BT34: 2.4 | BU34: 2.4 | BV34: 1.8 | BW34: 0 | BX34: Įregistruota ištuokų, vnt | BY34: 93 | BZ34: 93 | CA34: 93 | CB34: 93
A35: 01 | B35: 02 | C35: 03 | D35: Gyventojų registro tvarkymas ir duomenų teikimas valstybės registrams | E35: 01 | F35: 188718528 | G35: A2 | Q35: 1.5 | X35: 1.5 | Y35: 1.5 | Z35: 1.2 | AA35: 0 | AG35: 0 | AN35: =AG35 -> 0 | AO35: =AN35 -> 0 | AP35: 0 | AQ35: 0 | AW35: 0 | BD35: =AW35 -> 0 | BE35: =AW35 -> 0 | BF35: 0 | BG35: 0 | BM35: 2 | BT35: 2 | BU35: 2 | BV35: 1.5 | BW35: 0 | BX35: Apskaityta santuokų, vnt | BY35: 25 | BZ35: 25 | CA35: 25 | CB35: 25
A36: 01 | B36: 02 | C36: 04 | D36: Civilinės būklės aktų registravimas | E36: 01 | F36: 188718528 | G36: A2 | Q36: 90.9 | X36: =Q36 -> 90.9 | Y36: =Q36 -> 90.9 | Z36: 63 | AA36: 0 | AG36: 0 | AN36: =AG36 -> 0 | AO36: =AN36 -> 0 | AP36: 0 | AQ36: 0 | AW36: 0 | BD36: =AW36 -> 0 | BE36: =BD36 -> 0 | BF36: 0 | BG36: 0 | BM36: 81.4 | BT36: =BM36 -> 81.4 | BU36: =BT36 -> 81.4 | BV36: 56.6 | BW36: 0 | BX36: Apskaityta ištuokų, vnt | BY36: 1 | BZ36: 1 | CA36: 1 | CB36: 1
BX37: Ištaisytos, papildytos bylos, vnt | BY37: 176 | BZ37: 176 | CA37: 176 | CB37: 176
BX38: Vardo, pavardės keitimo bylos, vnt | BY38: 5 | BZ38: 5 | CA38: 5 | CB38: 5
BX39: Įregistruota gimimų, vnt | BY39: 245 | BZ39: 245 | CA39: 245 | CB39: 245
BX40: Apskaityta giminų, vnt | BY40: 61 | BZ40: 61 | CA40: 61 | CB40: 61
BX41: Išduota pakartotinių liudijimų, vnt | BY41: 241 | BZ41: 241 | CA41: 241 | CB41: 241
BX42: Išduota civilinės būklės aktų kopijų, vnt | BY42: 197 | BZ42: 197 | CA42: 197 | CB42: 197
BX43: Išduota pažymų apie šeiminę padėtį, vnt | BY43: 5 | BZ43: 5 | CA43: 5 | CB43: 5
BX44: Įvaikinimas, vnt | BY44: 1 | BZ44: 1 | CA44: 1 | CB44: 1
BX45: Tėvystės pripažinimas, nustatymas, nuginčijimas, vnt | BY45: 25 | BZ45: 25 | CA45: 25 | CB45: 25
BX46: Mirčių įregistranvimas, vnt | BY46: 489 | BZ46: 485 | CA46: 485 | CB46: 485
BX47: Gyventojų, pasinaudojusių deklaravimo paslauga skaičius, vnt | BY47: 2478 | BZ47: 2506 | CA47: 2506 | CB47: 2506
BX48: Išduodamų juridinius faktus patvirtinančių dokumentų skaičius, vnt | BY48: 520 | BZ48: 510 | CA48: 490 | CB48: 520
BX49: Ištaisytos, papildytos bylos, vnt | BY49: 176 | BZ49: 176 | CA49: 176 | CB49: 176
A50: 01 | B50: 02 | C50: 05 | D50: Savivaldybei priskirtų archyvinių dokumentų tvarkymas | E50: 01 | F50: 188718528 | G50: A3 | Q50: 31 | X50: =SUM(P50:Q50) -> 31 | Y50: =X50 -> 31 | Z50: 21.5 | AA50: 0 | AG50: 0 | AN50: =AG50 -> 0 | AO50: =AG50 -> 0 | AP50: 0 | AQ50: 0 | AW50: 0 | BD50: =AW50 -> 0 | BE50: =AW50 -> 0 | BF50: 0 | BG50: 0 | BM50: 31 | BT50: 31 | BU50: 31 | BV50: 21.5 | BW50: 0
A51: 01 | B51: 02 | C51: 06 | D51: Civilinė sauga | E51: 02 | F51: 188718528 | G51: A3 | Q51: 54.4 | X51: =Q51 -> 54.4 | Y51: =Q51 -> 54.4 | Z51: 33.7 | AA51: 0 | AG51: 0 | AN51: =AG51 -> 0 | AO51: =AN51 -> 0 | AP51: 0 | AQ51: 0 | AW51: 0 | BD51: =AW51 -> 0 | BE51: =AW51 -> 0 | BF51: 0 | BG51: 0 | BM51: 58 | BT51: =BM51 -> 58 | BU51: =BT51 -> 58 | BV51: 34 | BW51: 0 | BX51: Ekstremalių situacijų skaičius, vnt | BY51: 3 | BZ51: 3 | CA51: 3 | CB51: 3
A52: 01 | B52: 02 | C52: 07 | D52: Valstybės kalbos vartojimo ir taisyklingumo kontrolė | E52: 01 | F52: 188718528 | G52: A3 | Q52: 24.4 | X52: 24.4 | Y52: 24.4 | Z52: 18.6 | AA52: 0 | AG52: 0 | AN52: =AG52 -> 0 | AO52: =AG52 -> 0 | AP52: 0 | AQ52: 0 | AW52: 0 | BD52: =AW52 -> 0 | BE52: =AW52 -> 0 | BF52: 0 | BG52: 0 | BM52: 29.7 | BT52: =BM52 -> 29.7 | BU52: =BM52 -> 29.7 | BV52: 22.7 | BW52: 0
A53: 01 | B53: 08 | C53: 08 | D53: Dalyvavimas rengiant ir vykdant mobilizaciją | E53: 02 | F53: 188718528 | G53: A3 | Q53: 14.3 | X53: =Q53 -> 14.3 | Y53: =Q53 -> 14.3 | Z53: 9.8 | AA53: 0 | AG53: 0 | AN53: =AG53 -> 0 | AO53: =AG53 -> 0 | AP53: 0 | AQ53: 0 | AW53: 0 | BD53: =AW53 -> 0 | BE53: =BD53 -> 0 | BF53: 0 | BG53: 0 | BM53: 17.7 | BT53: 17.7 | BU53: 17.7 | BV53: 10 | BW53: 0 | BX53: Mobilizacijos plano rengimas ir tikslinimas, vnt | BY53: 1 | BZ53: 1 | CA53: 1 | CB53: 1
BX54: Ataskaitų, susijusių su mobilizacija, ruošimas, vnt | BY54: 2 | BZ54: 2 | CA54: 2 | CB54: 2
A55: 01 | B55: 02 | C55: 09 | D55: Piliečių prašymams atkurti nuosavybės teises į išlikusį nekilnojamąjį turtą nagrinėti ir sprendimams dėl nuosavybės teisių atkūrimo priimti | E55: 01 | F55: 188718528 | G55: A4
A56: 01 | B56: 02 | C56: Iš viso uždaviniui | H56: =SUM(H33:H52) -> 0 | I56: =SUM(I33:I52) -> 0 | J56: =SUM(J33:J52) -> 0 | K56: =SUM(K33:K52) -> 0 | Q56: =SUM(Q33:Q55) -> 256 | X56: =SUM(X33:X55) -> 256 | Y56: =SUM(Y33:Y55) -> 256 | Z56: =SUM(Z33:Z55) -> 157.1 | AA56: =SUM(AA33:AA55) -> 0 | AG56: =SUM(AG33:AG55) -> 0 | AN56: =SUM(AN33:AN55) -> 0 | AO56: =SUM(AO33:AO55) -> 0 | AP56: =SUM(AP33:AP55) -> 0 | AQ56: =SUM(AQ33:AQ55) -> 0 | AW56: =SUM(AW33:AW55) -> 0 | BD56: =SUM(BD33:BD55) -> 0 | BE56: =SUM(BE33:BE55) -> 0 | BF56: =SUM(BF33:BF55) -> 0 | BG56: =SUM(BG33:BG55) -> 0 | BM56: =SUM(BM33:BM55) -> 259.7 | BT56: =SUM(BT33:BT55) -> 259.7 | BU56: =SUM(BU33:BU55) -> 259.7 | BV56: =SUM(BV33:BV55) -> 155.9 | BW56: =SUM(BW33:BW55) -> 0
A57: 01 | B57: 03 | C57: Užtikrinti finansavimą nenumatytoms išlaidoms dengti
A58: 01 | B58: 03 | C58: 01 | D58: Savivaldybės administracijos direktoriaus rezervo tvarkymo programa | E58: 01 | F58: 188718528 | G58: A0 | P58: 100 | X58: 100 | Y58: 100 | Z58: 0 | AA58: 0 | AF58: 0 | AN58: =AF58 -> 0 | AO58: =AF58 -> 0 | AP58: 0 | AQ58: 0 | AV58: 0 | BD58: =AV58 -> 0 | BE58: =AV58 -> 0 | BF58: 0 | BG58: 0 | BL58: 0 | BT58: =0 -> 0 | BU58: =BT58 -> 0 | BV58: 0 | BW58: 0 | BX58: % dydis, patvirtintas savivaldybės biudžeto asignavimų sumos | BY58: 0.17 | BZ58: 0.16 | CA58: 0.17 | CB58: 0.17
A59: 01 | B59: 03 | C59: Iš viso uždaviniui | H59: =H58 -> 0 | I59: =I58 -> 0 | J59: =J58 -> 0 | K59: =K58 -> 0 | P59: =SUM(P58) -> 100 | X59: =X58 -> 100 | Y59: =Y58 -> 100 | Z59: 0 | AA59: 0 | AF59: =AF58 -> 0 | AN59: =AN58 -> 0 | AO59: =AO58 -> 0 | AP59: 0 | AQ59: 0 | AV59: =AV58 -> 0 | BD59: =BD58 -> 0 | BE59: =BE58 -> 0 | BF59: 0 | BG59: 0 | BL59: =BL58 -> 0 | BT59: =BT58 -> 0 | BU59: =BU58 -> 0 | BV59: 0 | BW59: 0
A60: 01 | B60: 05 | C60: Narystės mokesčių mokėjimas
A61: 01 | B61: 05 | C61: 01 | D61: Savivaldybės dalyvavimas Lietuvos savivaldybių asociacijoje( LSA nario mokestis) | E61: 01 | F61: 188718528 | G61: A0 | P61: 19.1 | X61: =P61 -> 19.1 | Y61: =P61 -> 19.1 | Z61: 0 | AA61: 0 | AF61: =0 -> 0 | AN61: =AF61 -> 0 | AO61: =AF61 -> 0 | AP61: 0 | AQ61: 0 | AV61: 0 | BD61: =AV61 -> 0 | BE61: =AV61 -> 0 | BF61: 0 | BG61: 0 | BL61: 0 | BT61: =BL61 -> 0 | BU61: =BT61 -> 0 | BV61: 0 | BW61: 0 | BX61: LSA nario mokesčiui skirta pinigų suma, tūkst. Lt | BY61: 18.3 | BZ61: 20 | CA61: 19 | CB61: 19
A62: 01 | B62: 05 | C62: 02 | D62: Lietuvos seniūnijų asociacijos nario mokestis | E62: 01 | F62: 188718528 | G62: A0 | AF62: =0 -> 0 | AN62: =AF62 -> 0 | AO62: 0 | AP62: 0 | AQ62: 0 | AV62: 0 | BD62: =AV62 -> 0 | BE62: =AV62 -> 0 | BF62: 0 | BG62: 0 | BL62: 0 | BT62: =BL62 -> 0 | BU62: =BL62 -> 0 | BV62: 0 | BW62: 0 | BX62: Lietuvos seniūnijų asociacijos nario mokestis, tūkst.Lt | BY62: 3.3 | BZ62: 3.3 | CA62: 3.3 | CB62: 3.3
A63: 01 | B63: 05 | C63: Iš viso uždaviniui | H63: =SUM(H61:H62) -> 0 | I63: =SUM(I61:I62) -> 0 | J63: =SUM(J61:J62) -> 0 | K63: =SUM(K61:K62) -> 0 | P63: =SUM(P61:P62) -> 19.1 | X63: =SUM(X61:X62) -> 19.1 | Y63: =SUM(Y61:Y62) -> 19.1 | Z63: =SUM(Z61:Z62) -> 0 | AA63: =SUM(AA61:AA62) -> 0 | AF63: =SUM(AF61:AF62) -> 0 | AN63: =SUM(AN61:AN62) -> 0 | AO63: =SUM(AO61:AO62) -> 0 | AP63: =SUM(AP61:AP62) -> 0 | AQ63: =SUM(AQ61:AQ62) -> 0 | AV63: =SUM(AV61:AV62) -> 0 | BD63: =SUM(BD61:BD62) -> 0 | BE63: =SUM(BE61:BE62) -> 0 | BF63: =SUM(BF61:BF62) -> 0 | BG63: =SUM(BG61:BG62) -> 0 | BL63: =SUM(BL61:BL62) -> 0 | BT63: =SUM(BT61:BT62) -> 0 | BU63: =SUM(BU61:BU62) -> 0 | BV63: =SUM(BV61:BV62) -> 0 | BW63: =SUM(BW61:BW62) -> 0
A64: 01 | B64: Iš viso tikslui | H64: =H31+H56+H59+#REF!+H63 -> #REF! | I64: =I31+I56+I59+#REF!+I63 -> #REF! | J64: =J31+J56+J59+#REF!+J63 -> #REF! | K64: =K31+K56+K59+#REF!+K63 -> #REF! | N64: =N31+N56+N59+N63 -> 320 | P64: =P31+P56+P59+P63 -> 6217.5 | Q64: =Q31+Q56+Q59+Q63 -> 256 | X64: =X31+X56+X59+X63 -> 6793.5 | Y64: =Y31+Y56+Y59+Y63 -> 6374.1 | Z64: =Z31+Z56+Z59+Z63 -> 3288.9 | AA64: =AA31+AA56+AA59+AA63 -> 419.4 | AD64: =AD31+AD56+AD59+AD63 -> 0 | AF64: =AF31+AF56+AF59+AF63 -> 0 | AG64: =AG31+AG56+AG59+AG63 -> 0 | AN64: =AN31+AN56+AN59+AN63 -> 0 | AO64: =AO31+AO56+AO59+AO63 -> 0 | AP64: =AP31+AP56+AP59+AP63 -> 0 | AQ64: =AQ31+AQ56+AQ59+AQ63 -> 0 | AT64: =AT31+AT56+AT59+AT63 -> 0 | AV64: =AV31+AV56+AV59+AV63 -> 0 | AW64: =AW31+AW56+AW59+AW63 -> 0 | BD64: =BD31+BD56+BD59+BD63 -> 0 | BE64: =BE31+BE56+BE59+BE63 -> 0 | BF64: =BF31+BF56+BF59+BF63 -> 0 | BG64: =BG31+BG56+BG59+BG63 -> 0 | BJ64: =BJ31+BJ56+BJ59+BJ63 -> 0 | BL64: =BL31+BL56+BL59+BL63 -> 0 | BM64: =BM31+BM56+BM59+BM63 -> 259.7 | BT64: =BT31+BT56+BT59+BT63 -> 259.7 | BU64: =BU31+BU56+BU59+BU63 -> 259.7 | BV64: =BV31+BV56+BV59+BV63 -> 155.9 | BW64: =BW31+BW56+BW59+BW63 -> 0
A65: 02 | B65: Prižiūrėti, ar teisėtai, efektyviai, ekonomiškai ir rezultatyviai valdomas ir naudojamas savivaldybės turtas, patikėjimo teise valdomas valstybės turtas, kaip vykdomas savivaldybės biudžetas ir naudojami kiti piniginiai ištekliai.
A66: 02 | B66: 01 | C66: Atlikti finansinius ir veiklos auditus, patikrinimus, rengti išvadas.
A67: 02 | B67: 01 | C67: 01 | D67: Kokybiškas ir efektyvus auditų atlikimas | E67: 01 | F67: 188718528 | G67: K1 | P67: 209.2 | X67: =P67 -> 209.2 | Y67: 202.2 | Z67: 142.3 | AA67: 7 | AF67: 0 | AN67: =AF67 -> 0 | AO67: =AF67 -> 0 | AP67: 0 | AQ67: 0 | AV67: 0 | BD67: =AV67 -> 0 | BE67: =AV67 -> 0 | BF67: 0 | BG67: 0 | BL67: 0 | BT67: =BL67 -> 0 | BU67: =BL67 -> 0 | BV67: 0 | BW67: 0 | BX67: Finansinių ir veiklos auditų, patikrinimų kaita, vnt | BY67: 5 | BZ67: 5 | CA67: 6 | CB67: 6
BX68: Kvalifikacijos kėlimas mokymo kursuose,seminaruose, konferencijose | BY68: 4 | BZ68: 4 | CA68: 5 | CB68: 5
BX69: Pareigybių skaičius, vnt | BY69: 2 | BZ69: 2 | CA69: 2 | CB69: 2
A70: 02 | B70: 01 | C70: Iš viso uždaviniui | I70: =SUM(I68:I69) -> 0 | J70: =SUM(J68:J69) -> 0 | K70: =SUM(K68:K69) -> 0 | P70: =SUM(P67:P69) -> 209.2 | X70: =SUM(X67:X69) -> 209.2 | Y70: =SUM(Y67:Y69) -> 202.2 | Z70: =SUM(Z67:Z69) -> 142.3 | AA70: =SUM(AA67:AA69) -> 7 | AF70: =SUM(AF67:AF69) -> 0 | AN70: =SUM(AN67:AN69) -> 0 | AO70: =SUM(AO67:AO69) -> 0 | AP70: =SUM(AP67:AP69) -> 0 | AQ70: =SUM(AQ67:AQ69) -> 0 | AV70: =SUM(AV67:AV69) -> 0 | BD70: =SUM(BD67:BD69) -> 0 | BE70: =SUM(BE67:BE69) -> 0 | BF70: =SUM(BF67:BF69) -> 0 | BG70: =SUM(BG67:BG69) -> 0 | BL70: =SUM(BL67:BL69) -> 0 | BT70: =SUM(BT67:BT69) -> 0 | BU70: =SUM(BU67:BU69) -> 0 | BV70: =SUM(BV67:BV69) -> 0 | BW70: =SUM(BW67:BW69) -> 0
A71: 02 | B71: Iš viso tikslui | H71: =H38+#REF!+H61+H66+H70 -> #REF! | I71: =I38+#REF!+I61+I66+I70 -> #REF! | J71: =J38+#REF!+J61+J66+J70 -> #REF! | K71: =K38+#REF!+K61+K66+K70 -> #REF! | P71: =P70 -> 209.2 | X71: =X70 -> 209.2 | Y71: =Y70 -> 202.2 | Z71: =Z70 -> 142.3 | AA71: =AA70 -> 7 | AF71: =AF70 -> 0 | AN71: =AN70 -> 0 | AO71: =AO70 -> 0 | AP71: =AP70 -> 0 | AQ71: =AQ70 -> 0 | AV71: =AV70 -> 0 | BD71: =BD70 -> 0 | BE71: =BE70 -> 0 | BF71: =BF70 -> 0 | BG71: =BG70 -> 0 | BL71: =BL70 -> 0 | BT71: =BT70 -> 0 | BU71: =BU70 -> 0 | BV71: =BV70 -> 0 | BW71: =BW70 -> 0
A72: 03 | B72: Prisiimtų finansinių įsipareigojimų valdymas
A73: 03 | B73: 01 | C73: Paskolų ir palūkanų mokėjimas pagal pasirašytas skolų gražinimo sutartis
A74: 03 | B74: 01 | C74: 01 | D74: Paskolų grąžinimas | E74: 01 | F74: 188718528 | G74: A5 | P74: 2137.1 | X74: =P74 -> 2137.1 | Y74: 0 | Z74: 0 | AA74: =X74 -> 2137.1 | AF74: 0 | AN74: =AF74 -> 0 | AO74: =AN74 -> 0 | AP74: 0 | AQ74: 0 | AV74: 0 | BD74: =AV74 -> 0 | BE74: =BD74 -> 0 | BF74: 0 | BG74: 0 | BL74: 0 | BT74: =BL74 -> 0 | BU74: 0 | BV74: 0 | BW74: 0 | BX74: Grąžinta paskolų, tūkst. Lt | BY74: 449.4 | BZ74: 2137.1 | CA74: 2137.1 | CB74: 2268.1
A75: 03 | B75: 01 | C75: 02 | D75: Palūkanų už paskolas mokėjimas | E75: 01 | F75: 188718528 | G75: A5 | P75: 660 | X75: =P75 -> 660 | Y75: =P75 -> 660 | Z75: 0 | AA75: 0 | AF75: 0 | AN75: =AF75 -> 0 | AO75: =AN75 -> 0 | AP75: 0 | AQ75: 0 | AV75: 0 | BD75: =AV74:AV75 -> 0 | BE75: =AV75 -> 0 | BF75: 0 | BG75: 0 | BL75: 0 | BT75: =BL75 -> 0 | BU75: =BT75 -> 0 | BV75: 0 | BW75: 0 | BX75: Sumokėtos palūkanos už paskolas, tūkst. Lt | BY75: 700 | BZ75: 660.7 | CA75: 550.7 | CB75: 476
A76: 03 | B76: 01 | C76: Iš viso uždaviniui | H76: =SUM(H74:H75) -> 0 | I76: =SUM(I74:I75) -> 0 | J76: =SUM(J74:J75) -> 0 | K76: =SUM(K74:K75) -> 0 | P76: =SUM(P74:P75) -> 2797.1 | X76: =SUM(X74:X75) -> 2797.1 | Y76: =SUM(Y74:Y75) -> 660 | Z76: =SUM(Z74:Z75) -> 0 | AA76: =SUM(AA74:AA75) -> 2137.1 | AF76: =SUM(AF74:AF75) -> 0 | AN76: =SUM(AN74:AN75) -> 0 | AO76: =SUM(AO74:AO75) -> 0 | AP76: =SUM(AP74:AP75) -> 0 | AQ76: =SUM(AQ74:AQ75) -> 0 | AV76: =SUM(AV74:AV75) -> 0 | BD76: =SUM(BD74:BD75) -> 0 | BE76: =SUM(BE74:BE75) -> 0 | BF76: =SUM(BF74:BF75) -> 0 | BG76: =SUM(BG74:BG75) -> 0 | BL76: =SUM(BL74:BL75) -> 0 | BT76: =SUM(BT74:BT75) -> 0 | BU76: =SUM(BU74:BU75) -> 0 | BV76: =SUM(BV74:BV75) -> 0 | BW76: =SUM(BW74:BW75) -> 0
A77: 03 | B77: Iš viso tikslui | H77: =SUM(H74:H75) -> 0 | I77: =SUM(I74:I75) -> 0 | J77: =SUM(J74:J75) -> 0 | K77: =SUM(K74:K75) -> 0 | P77: =SUM(P74:P75) -> 2797.1 | X77: =SUM(X74:X75) -> 2797.1 | Y77: =SUM(Y74:Y75) -> 660 | Z77: =SUM(Z74:Z75) -> 0 | AA77: =SUM(AA74:AA75) -> 2137.1 | AF77: =SUM(AF74:AF75) -> 0 | AN77: =SUM(AN74:AN75) -> 0 | AO77: =SUM(AO74:AO75) -> 0 | AP77: =SUM(AP74:AP75) -> 0 | AQ77: =SUM(AQ74:AQ75) -> 0 | AV77: =SUM(AV74:AV75) -> 0 | BD77: =SUM(BD74:BD75) -> 0 | BE77: =SUM(BE74:BE75) -> 0 | BF77: =SUM(BF74:BF75) -> 0 | BG77: =SUM(BG74:BG75) -> 0 | BL77: =SUM(BL74:BL75) -> 0 | BT77: =SUM(BT74:BT75) -> 0 | BU77: =SUM(BU74:BU75) -> 0 | BV77: =SUM(BV74:BV75) -> 0 | BW77: =SUM(BW74:BW75) -> 0
A78: 04 | B78: Užtikrinti gyventojų saugumą gesinant gaisrus ir vykdant gelbėjimo darbus
A79: 04 | B79: 01 | C79: Užtikrinti visuomenės, materialaus turto ir aplinkos apsaugą, operatyviai ir laiku pasiekti nelaimės vietą, modernizuoti gelbėjimo sistemą, užtikrinti gaisrų prevenciją ir visuomenės švietimą šioje srityje
A80: 04 | B80: 01 | C80: 01 | D80: Priešgaisrinės saugos organizavimas | E80: 03 | F80: 188731956 | G80: P1 | P80: 13 | Q80: 1605.2 | X80: =P80+Q80 -> 1618.2 | Y80: 1615.2 | Z80: 1147.2 | AA80: 3 | AF80: 0 | AG80: 0 | AN80: =SUM(AF80:AG80) -> 0 | AO80: =AN80 -> 0 | AP80: 0 | AQ80: 0 | AV80: 0 | AW80: 0 | BD80: =AV80+AW80 -> 0 | BE80: =BD80 -> 0 | BF80: 0 | BG80: 0 | BL80: 0 | BM80: 0 | BT80: =BL80+BM80 -> 0 | BU80: =BT80 -> 0 | BV80: 1247.1 | BW80: 0 | BX80: Iškvietimų skaičiaus kaita, vnt | BY80: 316 | BZ80: 300 | CA80: 305 | CB80: 298
D81: Operatyviai ir laiku pasiekiama nelaimės vieta, vykdoma gaisrų prevencija
D82: Vykdoma visuomenės švietimas, aprūpinama apsaugos ir gelbėjimo įranga | BX82: Aprūpinimas priešgaisriniu inventoriumi, vnt | BZ82: 16 | CB82: 16
D83: Įstatymų nustatyta tvarka mokami atlyginimai darbuotojams | BX83: Darbo užmokestį gaunatys asmenys, darbuotojų sk. | BY83: 74 | BZ83: 74 | CA83: 74 | CB83: 74
D84: Keliama darbuotojų kvalifikacija, dalyvaujama įvariuose mokymuose | BX84: Kvalifikacijos kėlimas dalyvavimas mokymuose, darbuotojų sk. | BY84: 74 | BZ84: 10 | CA84: 10 | CB84: 10
D85: Stiprinama ugniagesių komandų materialinė bazė | BX85: Ugniagesių komandų patalpų būklės gerinimas, komandų sk. | BY85: 3 | BZ85: 3 | CA85: 2 | CB85: 4
D86: Palaikoma pagrindinius higienos, ergonomikos reikalavimus atitinkanti aplinka | BX86: Darbuotojų sveikatos tikrinimas, darbuotojų sk. | BY86: 72 | CA86: 72
D87: Organizuojama kompiuterinių programų priežiūra, darbuotojų sveikatos patikrinimai ir kitus darbus,kurie užtikrintų priešgaisrinės tarnybos veiklą | BX87: Buhalterinės programos priežiūra, vnt. | BY87: 1 | BZ87: 1 | CA87: 1 | CB87: 1
A88: 04 | B88: 01 | C88: Iš viso uždaviniui | H88: =SUM(H85:H87) -> 0 | I88: =SUM(I85:I87) -> 0 | J88: =SUM(J85:J87) -> 0 | K88: =SUM(K85:K87) -> 0 | P88: =SUM(P80:P87) -> 13 | Q88: =SUM(Q80:Q87) -> 1605.2 | X88: =SUM(X80:X87) -> 1618.2 | Y88: =SUM(Y80:Y87) -> 1615.2 | Z88: =SUM(Z80:Z87) -> 1147.2 | AA88: =SUM(AA80:AA87) -> 3 | AF88: =SUM(AF80:AF87) -> 0 | AG88: =SUM(AG80:AG87) -> 0 | AN88: =SUM(AN80:AN87) -> 0 | AO88: =SUM(AO80:AO87) -> 0 | AP88: =SUM(AP80:AP87) -> 0 | AQ88: =SUM(AQ80:AQ87) -> 0 | AV88: =SUM(AV80:AV87) -> 0 | AW88: =SUM(AW80:AW87) -> 0 | BD88: =SUM(BD80:BD87) -> 0 | BE88: =SUM(BE80:BE87) -> 0 | BF88: =SUM(BF80:BF87) -> 0 | BG88: =SUM(BG80:BG87) -> 0 | BL88: =SUM(BL80:BL87) -> 0 | BM88: =SUM(BM80:BM87) -> 0 | BT88: =SUM(BT80:BT87) -> 0 | BU88: =SUM(BU80:BU87) -> 0 | BV88: =SUM(BV80:BV87) -> 1247.1 | BW88: =SUM(BW80:BW87) -> 0
A89: 04 | B89: Iš viso tikslui | H89: =#REF!+#REF!+H88 -> #REF! | I89: =#REF!+#REF!+I88 -> #REF! | J89: =#REF!+#REF!+J88 -> #REF! | K89: =#REF!+#REF!+K88 -> #REF! | P89: =P88 -> 13 | Q89: =Q88 -> 1605.2 | X89: =X88 -> 1618.2 | Y89: =Y88 -> 1615.2 | Z89: =Z88 -> 1147.2 | AA89: =AA88 -> 3 | AF89: =AF88 -> 0 | AG89: =AG88 -> 0 | AN89: =AN88 -> 0 | AO89: =AO88 -> 0 | AP89: =AP88 -> 0 | AQ89: =AQ88 -> 0 | AV89: =AV88 -> 0 | AW89: =AW88 -> 0 | BD89: =BD88 -> 0 | BE89: =BE88 -> 0 | BF89: =BF88 -> 0 | BG89: =BG88 -> 0 | BL89: =BL88 -> 0 | BM89: =BM88 -> 0 | BT89: =BT88 -> 0 | BU89: =BU88 -> 0 | BV89: =BV88 -> 1247.1 | BW89: =BW88 -> 0
A90: 02 | B90: Iš viso programai | H90: =H64+H77+H89 -> #REF! | I90: =I64+I77+I89 -> #REF! | J90: =J64+J77+J89 -> #REF! | K90: =K64+K77+K89 -> #REF! | N90: =N64+N71+N77+N89 -> 320 | P90: =P64+P71+P77+P89 -> 9236.8 | Q90: =Q64+Q71+Q77+Q89 -> 1861.2 | X90: =X64+X71+X77+X89 -> 11418 | Y90: =Y64+Y71+Y77+Y89 -> 8851.5 | Z90: =Z64+Z71+Z77+Z89 -> 4578.4 | AA90: =AA64+AA71+AA77+AA89 -> 2566.5 | AD90: =AD64+AD71+AD77+AD89 -> 0 | AF90: =AF64+AF71+AF77+AF89 -> 0 | AG90: =AG64+AG71+AG77+AG89 -> 0 | AN90: =AN64+AN71+AN77+AN89 -> 0 | AO90: =AO64+AO71+AO77+AO89 -> 0 | AP90: =AP64+AP71+AP77+AP89 -> 0 | AQ90: =AQ64+AQ71+AQ77+AQ89 -> 0 | AT90: =AT64+AT71+AT77+AT89 -> 0 | AV90: =AV64+AV71+AV77+AV89 -> 0 | AW90: =AW64+AW71+AW77+AW89 -> 0 | BD90: =BD64+BD71+BD77+BD89 -> 0 | BE90: =BE64+BE71+BE77+BE89 -> 0 | BF90: =BF64+BF71+BF77+BF89 -> 0 | BG90: =BG64+BG71+BG77+BG89 -> 0 | BJ90: =BJ64+BJ71+BJ77+BJ89 -> 0 | BL90: =BL64+BL71+BL77+BL89 -> 0 | BM90: =BM64+BM71+BM77+BM89 -> 259.7 | BT90: =BT64+BT71+BT77+BT89 -> 259.7 | BU90: =BU64+BU71+BU77+BU89 -> 259.7 | BV90: =BV64+BV71+BV77+BV89 -> 1403 | BW90: =BW64+BW71+BW77+BW89 -> 0

Sheet 2 lentele tūkst. Eur
CA3: 2 lentelė
A4: 2015-2017 METŲ SAVIVALDYBĖS VEIKLOS, PAGRINDINIŲ FUNKCIJŲ VYKDYMO, STRATEGIJOS FORMAVIMO IR JOS ĮGYVENDINIMO PROGRAMOS
A5: TIKSLŲ, UŽDAVINIŲ IR PRIEMONIŲ IŠLAIDŲ SUVESTINĖ
CA6: tūkst. Eur
A8: Programos tikslo kodas | B8: Uždavinio kodas | C8: Priemonės kodas | D8: Priemonės pavadinimas | E8: Funkcinės klasifikacijos kodas | F8: Asignavimų valdytojo kodas | G8: Priemonės vykdytojo kodas | L8: 2014 | AB8: 2015 | AR8: 2016 | BH8: 2017 | BX8: Uždavinio vertinimo kriterijus
H9: 2012 m. išlaidų projektas | L9: Lėšos pagal finansavimo šaltinius | X9: Savivaldybės biudžeto patvirtinti asignavimai | AB9: Lėšos pagal finansavimo šaltinius | AN9: Savivaldybės biudžeto asignavimų planas | AR9: Lėšos pagal finansavimo šaltinius | BD9: Numatomi Savivaldybės biudžeto asignavimai | BH9: Lėšos pagal finansavimo šaltinius | BT9: Numatomi Savivaldybės biudžeto asignavimai | BX9: Pavadinimas | BY9: Metai
H10: Iš viso | I10: Išlaidoms | K10: Turtui įsigyti ir finansiniams įsipareigojimams vykdyti | L10: Valstybės biudžetas | P10: Savivaldybės biudžetas | T10: ES lėšos | U10: Kitos lėšos | X10: Iš viso | Y10: Išlaidoms | AA10: Turtui įsigyti ir finansiniams įsipareigojimams vykdyti | AB10: Valstybės biudžetas | AF10: Savivaldybės biudžetas | AJ10: ES lėšos | AK10: Kitos lėšos | AN10: Iš viso | AO10: Išlaidoms | AQ10: Turtui įsigyti ir finansiniams įsipareigojimams vykdyti | AR10: Valstybės biudžetas | AV10: Savivaldybės biudžetas | AZ10: ES lėšos | BA10: Kitos lėšos | BD10: Iš viso | BE10: Išlaidoms | BG10: Turtui įsigyti ir finansiniams įsipareigojimams vykdyti | BH10: Valstybės biudžetas | BL10: Savivaldybės biudžetas | BP10: ES lėšos | BQ10: Kitos lėšos | BT10: Iš viso | BU10: Išlaidoms | BW10: Turtui įsigyti ir finansiniams įsipareigojimams vykdyti | BY10: 2014 | BZ10: 2015 | CA10: 2016 | CB10: 2017
I11: Iš viso | J11: Iš jų - darbo užmokesčiui | L11: Valstybės biudžeto lėšos | M11: Kelių priežiūros ir plėtros programos lėšos | N11: VIP lėšos | O11: Privalomojo sveikatos draudimo lėšos | P11: Savivaldybės biudžeto lėšos | Q11: Valstybės biudžeto spec. tikslinė dotacija | R11: Aplinkos apsaugos rėmimo spec. programa | S11: Biudžetinių įstaigų pajamos | U11: Paskolos lėšos | V11: Privatizavimo fondo lėšos | W11: Kiti finansavimo šaltiniai | Y11: Iš viso | Z11: Iš jų - darbo užmokesčiui | AB11: Valstybės biudžeto lėšos | AC11: Kelių priežiūros ir plėtros programos lėšos | AD11: VIP lėšos | AE11: Privalomojo sveikatos draudimo lėšos | AF11: Savivaldybės biudžeto lėšos | AG11: Valstybės biudžeto spec. tikslinė dotacija | AH11: Aplinkos apsaugos rėmimo spec. programa | AI11: Biudžetinių įstaigų pajamos | AK11: Paskolos lėšos | AL11: Privatizavimo fondo lėšos | AM11: Kiti finansavimo šaltiniai | AO11: Iš viso | AP11: Iš jų - darbo užmokesčiui | AR11: Valstybės biudžeto lėšos | AS11: Kelių priežiūros ir plėtros programos lėšos | AT11: VIP lėšos | AU11: Privalomojo sveikatos draudimo lėšos | AV11: Savivaldybės biudžeto lėšos | AW11: Valstybės biudžeto spec. tikslinė dotacija | AX11: Aplinkos apsaugos rėmimo spec. programa | AY11: Biudžetinių įstaigų pajamos | BA11: Paskolos lėšos | BB11: Privatizavimo fondo lėšos | BC11: Kiti finansavimo šaltiniai | BE11: Iš viso | BF11: Iš jų - darbo užmokesčiui | BH11: Valstybės biudžeto lėšos | BI11: Kelių priežiūros ir plėtros programos lėšos | BJ11: VIP lėšos | BK11: Privalomojo sveikatos draudimo lėšos | BL11: Savivaldybės biudžeto lėšos | BM11: Valstybės biudžeto spec. tikslinė dotacija | BN11: Aplinkos apsaugos rėmimo spec. programa | BO11: Biudžetinių įstaigų pajamos | BQ11: Paskolos lėšos | BR11: Privatizavimo fondo lėšos | BS11: Kiti finansavimo šaltiniai | BU11: Iš viso | BV11: Iš jų - darbo užmokesčiui
A12: 02 PROGRAMA.SAVIVALDYBĖS VEIKLOS, PAGRINDINIŲ FUNKCIJŲ VYKDYMO, STRATEGIJOS FORMAVIMO IR JOS ĮGYVENDINIMO
A13: 01 | B13: Efektyviai organizuoti Savivaldybės darbą, tinkamai įgyvendinant jos funkcijas
A14: 01 | B14: 01 | C14: Sudaryti sąlygas Savivaldybės funkcijoms įgyvendinti
A15: 01 | B15: 01 | C15: 01 | D15: Savivaldos institucijų veiklos programos įgyvendinimas | E15: 01 | F15: 188718528 | G15: A0 | P15: 275.1 | X15: =P15 -> 275.1 | Y15: 271.6 | Z15: 105.7 | AA15: 3.5 | AF15: 294.1 | AN15: =AF15+ROUND('2 lentele tūkst. Lt '!AN15/3.4528,1) -> 294.1 | AO15: 291.2 | AP15: 112 | AQ15: 2.9 | AV15: 294.1 | BD15: =AV15+ROUND('2 lentele tūkst. Lt '!BD15/3.4528,1) -> 294.1 | BE15: 291.2 | BF15: 112 | BG15: 2.9 | BL15: 294.1 | BT15: =BL15+ROUND('2 lentele tūkst. Lt '!BT15/3.4528,1) -> 294.1 | BU15: 291.2 | BV15: 112 | BW15: 2.9 | BX15: Perduodamų asmenų prašymų savivaldybės struktūriniams padaliniams, tarpininkaujant seniūnijoms, skaičius, vnt. | BY15: 98 | BZ15: 101 | CA15: 105 | CB15: 102
D16: Savivaldybės tarybos finansinio, ūkinio bei materialinio aptarnavimo užtikrinimas
A17: 01 | B17: 01 | C17: 02 | D17: Savivaldybės administracijos veiklos programos organizavimas | E17: 01 | F17: 188718528 | G17: A0 | P17: 1454.2 | X17: =SUM(P17:Q17) -> 1454.2 | Y17: 1428.9 | Z17: 795.8 | AA17: 25.3 | AF17: 1499.1 | AN17: =SUM(AF17:AG17) -> 1499.1 | AO17: 1458.5 | AP17: 807.4 | AQ17: 40.6 | AV17: 1503.1 | BD17: =SUM(AV17:AW17) -> 1503.1 | BE17: 1462.6 | BF17: 810.5 | BG17: 40.5 | BL17: 1508.6 | BT17: =SUM(BL17:BM17) -> 1508.6 | BU17: 1468.1 | BV17: 814.7 | BW17: 40.5
D18: Administracija ( bendrų ekonominių ir soc. planų ir programų formulavimas, koordinavimas, priežiūra, administravimas ir valdymas) | BX18: Savivaldybės tesiės aktų skelbimas Teisės aktų registre ir savivaldybės svetainės interneto puslapyje, įgyvendinimo terminas | BY18: Teisės aktų nustatytais terminais | BZ18: Teisės aktų nustatytais terminais | CA18: Teisės aktų nustatytais terminais | CB18: Teisės aktų nustatytais terminais
A19: 01 | B19: 01 | C19: 03 | D19: Įsigytų objektų iš ES lėšų draudimas | E19: 01 | F19: 188718528 | G19: A0 | P19: 17.4 | X19: =P19 -> 17.4 | Y19: =P19 -> 17.4 | Z19: =ROUND('2 lentele tūkst. Lt '!Z19/3.4528,1) -> 0 | AA19: =ROUND('2 lentele tūkst. Lt '!AA19/3.4528,1) -> 0 | AF19: 17.4 | AN19: =AF19 -> 17.4 | AO19: =AF19 -> 17.4 | AP19: =ROUND('2 lentele tūkst. Lt '!AP19/3.4528,1) -> 0 | AQ19: =ROUND('2 lentele tūkst. Lt '!AQ19/3.4528,1) -> 0 | AV19: 17.4 | BD19: =AV19 -> 17.4 | BE19: =AV19 -> 17.4 | BF19: =ROUND('2 lentele tūkst. Lt '!BF19/3.4528,1) -> 0 | BG19: =ROUND('2 lentele tūkst. Lt '!BG19/3.4528,1) -> 0 | BL19: 17.4 | BT19: =BL19 -> 17.4 | BU19: =BL19 -> 17.4 | BV19: =ROUND('2 lentele tūkst. Lt '!BV19/3.4528,1) -> 0 | BW19: =ROUND('2 lentele tūkst. Lt '!BW19/3.4528,1) -> 0
A20: 01 | B20: 01 | C20: 04 | D20: Civilinės būklės aktų registravimas | E20: 01 | F20: 188718528 | G20: A2 | P20: 4.9 | X20: =P20 -> 4.9 | Y20: =P20 -> 4.9 | Z20: =ROUND('2 lentele tūkst. Lt '!Z20/3.4528,1) -> 0 | AA20: =ROUND('2 lentele tūkst. Lt '!AA20/3.4528,1) -> 0 | AF20: 4.9 | AN20: =AF20 -> 4.9 | AO20: =AF20 -> 4.9 | AP20: =ROUND('2 lentele tūkst. Lt '!AP20/3.4528,1) -> 0 | AQ20: =ROUND('2 lentele tūkst. Lt '!AQ20/3.4528,1) -> 0 | AV20: 4.9 | BD20: =AV20 -> 4.9 | BE20: =AV20 -> 4.9 | BF20: =ROUND('2 lentele tūkst. Lt '!BF20/3.4528,1) -> 0 | BG20: =ROUND('2 lentele tūkst. Lt '!BG20/3.4528,1) -> 0 | BL20: 4.9 | BT20: =BL20 -> 4.9 | BU20: =BL20 -> 4.9 | BV20: =ROUND('2 lentele tūkst. Lt '!BV20/3.4528,1) -> 0 | BW20: =ROUND('2 lentele tūkst. Lt '!BW20/3.4528,1) -> 0
A22: 01 | B22: 01 | C22: 05 | D22: Valstybinės kalbos vartojimo ir taisyklingumo kontrolė | E22: 01 | F22: 188718528 | G22: A3 | P22: =ROUND('2 lentele tūkst. Lt '!P22/3.4528,1) -> 7.3 | X22: =P22 -> 7.3 | Y22: =X22 -> 7.3 | Z22: 5.6 | AA22: =ROUND('2 lentele tūkst. Lt '!AA22/3.4528,1) -> 0 | AF22: 7.3 | AN22: =AF22 -> 7.3 | AO22: =AN22 -> 7.3 | AP22: 5.6 | AQ22: =ROUND('2 lentele tūkst. Lt '!AQ22/3.4528,1) -> 0 | AV22: 7.3 | BD22: =AV22 -> 7.3 | BE22: =BD22 -> 7.3 | BF22: 5.6 | BG22: =ROUND('2 lentele tūkst. Lt '!BG22/3.4528,1) -> 0 | BL22: 7.3 | BT22: =BL22 -> 7.3 | BU22: =BT22 -> 7.3 | BV22: 5.6 | BW22: =ROUND('2 lentele tūkst. Lt '!BW22/3.4528,1) -> 0
A23: 01 | B23: 01 | C23: 06 | D23: Gyvenamųjų ir negyvenamųjų patalpų nuoma (pajamos už paslaugas) | E23: 01 | F23: 188718528 | G23: A0 | P23: 7 | X23: =P23 -> 7 | Y23: 7 | Z23: 0 | AA23: 0 | AF23: 86.9 | AN23: =AF23 -> 86.9 | AO23: =AN23 -> 86.9 | AP23: 0 | AQ23: 0 | AV23: 86.9 | BD23: =AV23 -> 86.9 | BE23: =AV23 -> 86.9 | BF23: 0 | BG23: 0 | BL23: 85.1 | BT23: =BL23 -> 85.1 | BU23: 85.1 | BV23: 0 | BW23: 0
A24: 01 | B24: 01 | C24: 07 | D24: Savivaldybei priskirtų archyvinių dokumentų tvarkymas (pajamos už paslaugas) | E24: 01 | F24: 188718528 | G24: A3 | P24: 0.3 | X24: =P24 -> 0.3 | Y24: =P24 -> 0.3 | Z24: 0 | AA24: 0 | AF24: 0.3 | AN24: =AF24 -> 0.3 | AO24: =AF24 -> 0.3 | AP24: 0 | AQ24: 0 | AV24: 0.3 | BD24: =AV24 -> 0.3 | BE24: =AV24 -> 0.3 | BF24: 0 | BG24: 0 | BL24: 0.3 | BT24: =BL24 -> 0.3 | BU24: =BL24 -> 0.3 | BV24: 0 | BW24: 0
A25: 01 | B25: 01 | C25: 08 | D25: Savivaldybių išlaidoms, patirtoms pritaikant informacines sistemas euro įvedimui, kompensuoti | E25: 01 | F25: 188718528 | G25: A0 | AG25: 5.27 | AN25: 5.27 | AO25: 5.3 | AP25: 0 | AQ25: 0
A26: 01 | B26: 01 | C26: Iš viso uždaviniui | H26: =SUM(H16:H48) -> 0 | I26: =SUM(I16:I48) -> 0 | J26: =SUM(J16:J48) -> 0 | K26: =SUM(K16:K48) -> 0 | P26: =SUM(P15:P25) -> 1766.2 | X26: =SUM(X15:X25) -> 1766.2 | Y26: =SUM(Y15:Y25) -> 1737.4 | Z26: =SUM(Z15:Z25) -> 907.1 | AA26: =SUM(AA15:AA25) -> 28.8 | AF26: =SUM(AF15:AF25) -> 1910 | AG26: =SUM(AG15:AG25) -> 5.27 | AN26: =SUM(AN15:AN25) -> 1915.27 | AO26: =SUM(AO15:AO25) -> 1871.8 | AP26: =SUM(AP15:AP25) -> 925 | AQ26: =SUM(AQ15:AQ25) -> 43.5 | AV26: =SUM(AV15:AV25) -> 1914 | BD26: =SUM(BD15:BD25) -> 1914 | BE26: =SUM(BE15:BE25) -> 1870.6 | BF26: =SUM(BF15:BF25) -> 928.1 | BG26: =SUM(BG15:BG25) -> 43.4 | BL26: =SUM(BL15:BL25) -> 1917.7 | BT26: =SUM(BT15:BT25) -> 1917.7 | BU26: =SUM(BU15:BU25) -> 1874.3 | BV26: =SUM(BV15:BV25) -> 932.3 | BW26: =SUM(BW15:BW25) -> 43.4
A27: 01 | B27: 02 | C27: Vykdyti valstybines ( perduotas savivaldybei) funkcijas
A28: 01 | B28: 02 | C28: 01 | D28: Gyvenamosios vietos deklaravimo duomenų ir gyvenamosios vietos neturinčių asmenų apskaitos duomenų tvarkymas | E28: 01 | F28: 188718528 | G28: A2 | Q28: 10.9 | X28: =Q28 -> 10.9 | Y28: =X28 -> 10.9 | Z28: 2.3 | AA28: 0 | AG28: 10.9 | AN28: =AG28 -> 10.9 | AO28: =AN28 -> 10.9 | AP28: 2.3 | AQ28: 0 | AW28: 10.9 | BD28: =AW28 -> 10.9 | BE28: =BD28 -> 10.9 | BF28: 2.3 | BG28: 0 | BM28: 10.9 | BT28: =BM28 -> 10.9 | BU28: =BT28 -> 10.9 | BV28: 2.3 | BW28: 0
A29: 01 | B29: 02 | C29: 02 | D29: Duomenų teikimas suteiktos valstybės pagalbos registrui | E29: 01 | F29: 188718528 | G29: A2 | Q29: 0.6 | X29: =Q29 -> 0.6 | Y29: =Q29 -> 0.6 | Z29: 0.4 | AA29: 0 | AG29: 0.7 | AN29: =AG29 -> 0.7 | AO29: =AG29 -> 0.7 | AP29: 0.5 | AQ29: 0 | AW29: 0.7 | BD29: =AW29 -> 0.7 | BE29: =AW29 -> 0.7 | BF29: 0.5 | BG29: 0 | BM29: 0.7 | BT29: 0.7 | BU29: 0.7 | BV29: 0.5 | BW29: 0
A30: 01 | B30: 02 | C30: 03 | D30: Gyventojų registro tvarkymas ir duomenų teikimas valstybės registrams | E30: 01 | F30: 188718528 | G30: A2 | Q30: 0.4 | X30: =Q30 -> 0.4 | Y30: =Q30 -> 0.4 | Z30: 0.3 | AA30: 0 | AG30: 0.6 | AN30: =AG30 -> 0.6 | AO30: =AN30 -> 0.6 | AP30: 0.4 | AQ30: 0 | AW30: 0.6 | BD30: =AW30 -> 0.6 | BE30: =AW30 -> 0.6 | BF30: 0.4 | BG30: 0 | BM30: 0.6 | BT30: 0.6 | BU30: 0.6 | BV30: 0.4 | BW30: 0
A31: 01 | B31: 02 | C31: 04 | D31: Civilinės būklės aktų registravimas | E31: 01 | F31: 188718528 | G31: A2 | Q31: 26.3 | X31: =Q31 -> 26.3 | Y31: =Q31 -> 26.3 | Z31: 18.2 | AA31: 0 | AG31: 26.3 | AN31: =AG31 -> 26.3 | AO31: =AG31 -> 26.3 | AP31: 18.2 | AQ31: 0 | AW31: 26.3 | BD31: =AW31 -> 26.3 | BE31: =AW31 -> 26.3 | BF31: 18.2 | BG31: 0 | BM31: 26.3 | BT31: =BM31 -> 26.3 | BU31: =BM31 -> 26.3 | BV31: 18.2 | BW31: 0 | BX31: Asmenų, gavusių paslaugas, skaičius | BY31: 4132 | BZ31: 4132 | CA31: 4132 | CB31: 4132
BX32: Užregistruotų aktų skaičius, vnt | BY32: 4357 | BZ32: 4357 | CA32: 4357 | CB32: 4357
BX33: Saugomų bylų archyve skaičius, vnt | BY33: 929 | BZ33: 916 | CA33: 942 | CB33: 942
BX34: Deklaravusių gyvenamąją vietą asmenų skaičius, vnt | BY34: 2482 | BZ34: 2478 | CA34: 2482 | CB34: 2482
A35: 01 | B35: 02 | C35: 05 | D35: Savivaldybei priskirtų archyvinių dokumentų tvarkymas | E35: 01 | F35: 188718528 | G35: A3 | Q35: 9 | X35: =SUM(P35:Q35) -> 9 | Y35: =X35 -> 9 | Z35: 6.2 | AA35: 0 | AG35: 9 | AN35: =SUM(AF35:AG35) -> 9 | AO35: =AN35 -> 9 | AP35: 6.2 | AQ35: 0 | AW35: 9 | BD35: =SUM(AV35:AW35) -> 9 | BE35: =BD35 -> 9 | BF35: 6.2 | BG35: 0 | BM35: 9 | BT35: =SUM(BL35:BM35) -> 9 | BU35: =BT35 -> 9 | BV35: 6.2 | BW35: 0 | BX35: Saugomų dokumentų kiekis, tiesinių metrų lentynų | BY35: 381.68 | BZ35: 381.68 | CA35: 381.68 | CB35: 381.68
A36: 01 | B36: 02 | C36: 06 | D36: Civilinė sauga | E36: 02 | F36: 188718528 | G36: A3 | Q36: 15.8 | X36: =Q36 -> 15.8 | Y36: =Q36 -> 15.8 | Z36: 9.8 | AA36: 0 | AG36: 16.8 | AN36: =AG36 -> 16.8 | AO36: =AN36 -> 16.8 | AP36: 9.8 | AQ36: 0 | AW36: 16.8 | BD36: =AW36 -> 16.8 | BE36: =AW36 -> 16.8 | BF36: 9.8 | BG36: 0 | BM36: 16.8 | BT36: =BM36 -> 16.8 | BU36: =BM36 -> 16.8 | BV36: 9.8 | BW36: 0 | BX36: Ekstremalių situacijų skaičius, vnt | BY36: 3 | BZ36: 3 | CA36: 3 | CB36: 3
A37: 01 | B37: 02 | C37: 07 | D37: Valstybinės kalbos vartojimo ir taisyklingumo kontrolė | E37: 01 | F37: 188718528 | G37: A3 | Q37: 7.07 | X37: =7.1 -> 7.1 | Y37: =Q37 -> 7.07 | Z37: 5.4 | AA37: 0 | AG37: 7.07 | AN37: =7.1 -> 7.1 | AO37: =AG37 -> 7.07 | AP37: 5.4 | AQ37: 0 | AW37: 7.07 | BD37: =7.1 -> 7.1 | BE37: =AW37 -> 7.07 | BF37: 5.4 | BG37: 0 | BM37: 7.07 | BT37: =7.1 -> 7.1 | BU37: =BM37 -> 7.07 | BV37: 5.4 | BW37: 0
A38: 01 | B38: 02 | C38: 08 | D38: Dalyvavimas rengiant ir vykdant mobilizaciją | E38: 02 | F38: 188718528 | G38: A3 | Q38: 4.1 | X38: =Q38 -> 4.1 | Y38: =Q38 -> 4.1 | Z38: 2.8 | AA38: 0 | AG38: 5.1 | AN38: =AG38 -> 5.1 | AO38: =AG38 -> 5.1 | AP38: 2.9 | AQ38: 0 | AW38: 5.1 | BD38: =AW38 -> 5.1 | BE38: =BD38 -> 5.1 | BF38: 2.9 | BG38: 0 | BM38: 5.1 | BT38: =BM38 -> 5.1 | BU38: =BT38 -> 5.1 | BV38: 2.9 | BW38: 0 | BX38: Mobilizacijos plano rengimas ir tikslinimas, vnt | BY38: 1 | BZ38: 1 | CA38: 1 | CB38: 1
BX39: Ataskaitų, susijusių su mobilizacija, ruošimas, vnt | BY39: 2 | BZ39: 2 | CA39: 2 | CB39: 2
A40: 01 | B40: 02 | C40: Iš viso uždaviniui | H40: =SUM(H28:H37) -> 0 | I40: =SUM(I28:I37) -> 0 | J40: =SUM(J28:J37) -> 0 | K40: =SUM(K28:K37) -> 0 | Q40: =SUM(Q28:Q39) -> 74.17 | X40: =SUM(X28:X39) -> 74.2 | Y40: =SUM(Y28:Y39) -> 74.17 | Z40: =SUM(Z28:Z39) -> 45.4 | AA40: =SUM(AA28:AA39) -> 0 | AG40: =SUM(AG28:AG39) -> 76.47 | AN40: =SUM(AN28:AN39) -> 76.5 | AO40: =SUM(AO28:AO39) -> 76.47 | AP40: =SUM(AP28:AP39) -> 45.7 | AQ40: =SUM(AQ28:AQ39) -> 0 | AW40: =SUM(AW28:AW39) -> 76.47 | BD40: =SUM(BD28:BD39) -> 76.5 | BE40: =SUM(BE28:BE39) -> 76.47 | BF40: =SUM(BF28:BF39) -> 45.7 | BG40: =SUM(BG28:BG39) -> 0 | BM40: =SUM(BM28:BM39) -> 76.47 | BT40: =SUM(BT28:BT39) -> 76.5 | BU40: =SUM(BU28:BU39) -> 76.47 | BV40: =SUM(BV28:BV39) -> 45.7 | BW40: =SUM(BW28:BW39) -> 0
A41: 01 | B41: 03 | C41: Užtikrinti finansavimą nenumatytoms išlaidoms dengti
A42: 01 | B42: 03 | C42: 01 | D42: Savivaldybės administracijos direktoriaus rezervo tvarkymo programa | E42: 01 | F42: 188718528 | G42: A0 | P42: 29 | X42: =P42 -> 29 | Y42: =P42 -> 29 | Z42: 0 | AA42: 0 | AF42: 29 | AN42: =AF42 -> 29 | AO42: =AF42 -> 29 | AP42: 0 | AQ42: 0 | AV42: 29 | BD42: =AV42 -> 29 | BE42: =AV42 -> 29 | BF42: 0 | BG42: 0 | BL42: 29 | BT42: =BL42 -> 29 | BU42: =BT42 -> 29 | BV42: 0 | BW42: 0 | BX42: Savivaldybės administracijos direktoriaus rezervas, dydis, patvirtintas savivaldybės biudžeto asignavimų sumos, % | BY42: 0.17 | BZ42: 0.16 | CA42: 0.17 | CB42: 0.17
A43: 01 | B43: 03 | C43: Iš viso uždaviniui | H43: =H42 -> 0 | I43: =I42 -> 0 | J43: =J42 -> 0 | K43: =K42 -> 0 | P43: =SUM(P42) -> 29 | X43: =SUM(X42) -> 29 | Y43: =SUM(Y42) -> 29 | Z43: =SUM(Z42) -> 0 | AA43: =SUM(AA42) -> 0 | AF43: =SUM(AF42) -> 29 | AN43: =SUM(AN42) -> 29 | AO43: =SUM(AO42) -> 29 | AP43: =SUM(AP42) -> 0 | AQ43: =SUM(AQ42) -> 0 | AV43: =SUM(AV42) -> 29 | BD43: =SUM(BD42) -> 29 | BE43: =SUM(BE42) -> 29 | BF43: =SUM(BF42) -> 0 | BG43: =SUM(BG42) -> 0 | BH43: =SUM(BH42) -> 0 | BI43: =SUM(BI42) -> 0 | BJ43: =SUM(BJ42) -> 0 | BK43: =SUM(BK42) -> 0 | ... BW43: =SUM(BW42) -> 0
A44: 01 | B44: 04 | C44: Narystės mokesčių mokėjimas
A45: 01 | B45: 04 | C45: 01 | D45: Savivaldybės dalyvavimas Lietuvos savivaldybių asociacijoje( LSA nario mokestis) | E45: 01 | F45: 188718528 | G45: A0 | P45: 5.5 | X45: =P45 -> 5.5 | Y45: =P45 -> 5.5 | Z45: 0 | AA45: 0 | AF45: 5.5 | AN45: =AF45 -> 5.5 | AO45: =AF45 -> 5.5 | AP45: 0 | AQ45: 0 | AV45: 5.5 | BD45: =AV45 -> 5.5 | BE45: =AV45 -> 5.5 | BF45: 0 | BG45: 0 | BL45: 5.5 | BT45: =BL45 -> 5.5 | BU45: =BL45 -> 5.5 | BV45: 0 | BW45: 0 | BX45: LSA nario mokesčiui skirta pinigų suma, tūkst. Eur | BY45: 5.5 | BZ45: 5.5 | CA45: 5.5 | CB45: 5.5
A46: 01 | B46: 04 | C46: Iš viso uždaviniui | H46: =SUM(H45:H45) -> 0 | I46: =SUM(I45:I45) -> 0 | J46: =SUM(J45:J45) -> 0 | K46: =SUM(K45:K45) -> 0 | P46: =SUM(P45:P45) -> 5.5 | X46: =SUM(X45:X45) -> 5.5 | Y46: =SUM(Y45:Y45) -> 5.5 | Z46: =SUM(Z45:Z45) -> 0 | AA46: =SUM(AA45:AA45) -> 0 | AF46: =SUM(AF45:AF45) -> 5.5 | AN46: =SUM(AN45:AN45) -> 5.5 | AO46: =SUM(AO45:AO45) -> 5.5 | AP46: =SUM(AP45:AP45) -> 0 | AQ46: =SUM(AQ45:AQ45) -> 0 | AV46: =SUM(AV45:AV45) -> 5.5 | BD46: =SUM(BD45:BD45) -> 5.5 | BE46: =SUM(BE45:BE45) -> 5.5 | BF46: =SUM(BF45:BF45) -> 0 | BG46: =SUM(BG45:BG45) -> 0 | BL46: =SUM(BL45:BL45) -> 5.5 | BT46: =SUM(BT45:BT45) -> 5.5 | BU46: =SUM(BU45:BU45) -> 5.5 | BV46: =SUM(BV45:BV45) -> 0 | BW46: =SUM(BW45:BW45) -> 0
A47: 01 | B47: 05 | C47: Valstybės lėšų, skirtų ilgalaikiam materialiajam ir nematerialiajam turtui sukurti, įsigyti arba jo vertei padidinti, racionalus panaudojimas
A48: 01 | B48: 05 | C48: 01 | D48: Poliklinikos pastato Alytuje, Naujoji g. 48, energetinio efektyvumo didinimas, rekonstravimas | E48: 01 | F48: 188718528 | G48: A0 | N48: 92.7 | X48: =N48 -> 92.7 | Y48: 0 | Z48: 0 | AA48: 92.7 | AD48: 86.9 | AN48: =AD48 -> 86.9 | AO48: =0 -> 0 | AP48: 0 | AQ48: 86.9 | AT48: 111.8 | BD48: =AT48 -> 111.8 | BE48: 0 | BF48: 0 | BG48: 111.8 | BX48: Įgyvendintas projektas, vnt | BY48: 1 | BZ48: 1 | CA48: 1
A49: 01 | B49: 05 | C49: Iš viso uždaviniui | H49: =SUM(H48:H48) -> 0 | I49: =SUM(I48:I48) -> 0 | J49: =SUM(J48:J48) -> 0 | K49: =SUM(K48:K48) -> 0 | N49: =SUM(N48) -> 92.7 | X49: =SUM(X48) -> 92.7 | Y49: =SUM(Y48) -> 0 | Z49: =SUM(Z48) -> 0 | AA49: =SUM(AA48) -> 92.7 | AD49: =SUM(AD48) -> 86.9 | AN49: =SUM(AN48) -> 86.9 | AO49: =SUM(AO48) -> 0 | AP49: =SUM(AP48) -> 0 | AQ49: =SUM(AQ48) -> 86.9 | AT49: =SUM(AT48) -> 111.8 | BD49: =SUM(BD48) -> 111.8 | BE49: =SUM(BE48) -> 0 | BF49: =SUM(BF48) -> 0 | BG49: =SUM(BG48) -> 111.8
A50: 01 | B50: 06 | C50: Skatinti vietos bendruomenių savivaldą ir savarankiškumą
A51: 01 | B51: 06 | C51: 01 | D51: Vietos bendruomenių savivaldos 2013-2015 metų programos lėšų vietos bendruomenių sprendimams įgyvendinti | E51: 01 | F51: 188718528 | G51: A8 | L51: 14.2 | AB51: 14.8 | BX51: Seniūnijų, kurioms skiriamas finansavimas, skaičius, vnt | BY51: 11 | BZ51: 11
A52: 01 | B52: 06 | C52: Iš viso uždaviniui | L52: =SUM(L51) -> 14.2 | AB52: =SUM(AB51) -> 14.8
A53: 01 | B53: Iš viso tikslui | H53: =H26+H40+H43+#REF!+H46 -> #REF! | I53: =I26+I40+I43+#REF!+I46 -> #REF! | J53: =J26+J40+J43+#REF!+J46 -> #REF! | K53: =K26+K40+K43+#REF!+K46 -> #REF! | L53: =L26+L40+L43+L46+L49+L52 -> 14.2 | N53: =N26+N40+N43+N46+N49+N52 -> 92.7 | P53: =P26+P40+P43+P46+P49+P52 -> 1800.7 | Q53: =Q26+Q40+Q43+Q46+Q49+Q52 -> 74.17 | X53: =X26+X40+X43+X46+X49+X52 -> 1967.6 | Y53: =Y26+Y40+Y43+Y46+Y49+Y52 -> 1846.07 | Z53: =Z26+Z40+Z43+Z46+Z49+Z52 -> 952.5 | AA53: =AA26+AA40+AA43+AA46+AA49+AA52 -> 121.5 | AB53: =AB26+AB40+AB43+AB46+AB49+AB52 -> 14.8 | AD53: =AD26+AD40+AD43+AD46+AD49+AD52 -> 86.9 | AF53: =AF26+AF40+AF43+AF46+AF49+AF52 -> 1944.5 | AG53: =AG26+AG40+AG43+AG46+AG49+AG52 -> 81.74 | AN53: =AN26+AN40+AN43+AN46+AN49+AN52 -> 2113.17 | AO53: =AO26+AO40+AO43+AO46+AO49+AO52 -> 1982.77 | AP53: =AP26+AP40+AP43+AP46+AP49+AP52 -> 970.7 | AQ53: =AQ26+AQ40+AQ43+AQ46+AQ49+AQ52 -> 130.4 | AT53: =AT26+AT40+AT43+AT46+AT49+AT52 -> 111.8 | AV53: =AV26+AV40+AV43+AV46+AV49+AV52 -> 1948.5 | AW53: =AW26+AW40+AW43+AW46+AW49+AW52 -> 76.47 | BD53: =BD26+BD40+BD43+BD46+BD49+BD52 -> 2136.8 | BE53: =BE26+BE40+BE43+BE46+BE49+BE52 -> 1981.57 | BF53: =BF26+BF40+BF43+BF46+BF49+BF52 -> 973.8 | BG53: =BG26+BG40+BG43+BG46+BG49+BG52 -> 155.2 | BL53: =BL26+BL40+BL43+BL46+BL49+BL52 -> 1952.2 | BM53: =BM26+BM40+BM43+BM46+BM49+BM52 -> 76.47 | BT53: =BT26+BT40+BT43+BT46+BT49+BT52 -> 2028.7 | BU53: =BU26+BU40+BU43+BU46+BU49+BU52 -> 1985.27 | BV53: =BV26+BV40+BV43+BV46+BV49+BV52 -> 978 | BW53: =BW26+BW40+BW43+BW46+BW49+BW52 -> 43.4
A54: 02 | B54: Prižiūrėti, ar teisėtai, efektyviai, ekonomiškai ir rezultatyviai valdomas ir naudojamas savivaldybės turtas, patikėjimo teise valdomas valstybės turtas, kaip vykdomas savivaldybės biudžetas ir naudojami kiti piniginiai ištekliai.
A55: 02 | B55: 01 | C55: Atlikti finansinius ir veiklos auditus, patikrinimus, rengti išvadas.
A56: 02 | B56: 01 | C56: 01 | D56: Alytaus rajono savivaldybės kontrolės ir audito tarnybos veiklos užtikrinimas | E56: 01 | F56: 188718528 | G56: K1 | P56: 60.6 | X56: =P56 -> 60.6 | Y56: 58.6 | Z56: 41.2 | AA56: 2 | AF56: 61.2 | AN56: =AF56 -> 61.2 | AO56: =AF56 -> 61.2 | AP56: 41.7 | AQ56: 0 | AV56: 61.9 | BD56: =AV56 -> 61.9 | BE56: =AV56 -> 61.9 | BF56: 42.2 | BG56: 0 | BL56: 62.1 | BT56: =BL56 -> 62.1 | BU56: =BL56 -> 62.1 | BV56: 42.4 | BW56: 0 | BX56: Finansinių ir veiklos auditų, patikrinimų kaita, vnt | BY56: 5 | BZ56: 6 | CA56: 6 | CB56: 6
BX57: Kvalifikacijos kėlimas mokymo kursuose,seminaruose, konferencijose, vnt | BY57: 5 | BZ57: 5 | CA57: 5 | CB57: 5
A58: 02 | B58: 01 | C58: Iš viso uždaviniui | I58: =SUM(I57:I57) -> 0 | J58: =SUM(J57:J57) -> 0 | K58: =SUM(K57:K57) -> 0 | P58: =SUM(P56:P57) -> 60.6 | X58: =SUM(X56:X57) -> 60.6 | Y58: =SUM(Y56:Y57) -> 58.6 | Z58: =SUM(Z56:Z57) -> 41.2 | AA58: =SUM(AA56:AA57) -> 2 | AF58: =SUM(AF56:AF57) -> 61.2 | AN58: =SUM(AN56:AN57) -> 61.2 | AO58: =SUM(AO56:AO57) -> 61.2 | AP58: =SUM(AP56:AP57) -> 41.7 | AQ58: =SUM(AQ56:AQ57) -> 0 | AV58: =SUM(AV56:AV57) -> 61.9 | BD58: =SUM(BD56:BD57) -> 61.9 | BE58: =SUM(BE56:BE57) -> 61.9 | BF58: =SUM(BF56:BF57) -> 42.2 | BG58: =SUM(BG56:BG57) -> 0 | BL58: =SUM(BL56:BL57) -> 62.1 | BT58: =SUM(BT56:BT57) -> 62.1 | BU58: =SUM(BU56:BU57) -> 62.1 | BV58: =SUM(BV56:BV57) -> 42.4 | BW58: =SUM(BW56:BW57) -> 0
A59: 02 | B59: Iš viso tikslui | H59: =H34+#REF!+H45+H55+H58 -> #REF! | I59: =I34+#REF!+I45+I55+I58 -> #REF! | J59: =J34+#REF!+J45+J55+J58 -> #REF! | K59: =K34+#REF!+K45+K55+K58 -> #REF! | P59: =P58 -> 60.6 | X59: =X58 -> 60.6 | Y59: =Y58 -> 58.6 | Z59: =Z58 -> 41.2 | AA59: =AA58 -> 2 | AF59: =AF58 -> 61.2 | AN59: =AN58 -> 61.2 | AO59: =AO58 -> 61.2 | AP59: =AP58 -> 41.7 | AQ59: =AQ58 -> 0 | AV59: =AV58 -> 61.9 | BD59: =BD58 -> 61.9 | BE59: =BE58 -> 61.9 | BF59: =BF58 -> 42.2 | BG59: =BG58 -> 0 | BL59: =BL58 -> 62.1 | BT59: =BT58 -> 62.1 | BU59: =BU58 -> 62.1 | BV59: =BV58 -> 42.4 | BW59: =BW58 -> 0
A60: 03 | B60: Prisiimtų finansinių įsipareigojimų valdymas
A61: 03 | B61: 01 | C61: Paskolų ir palūkanų mokėjimas pagal pasirašytas skolų gražinimo sutartis
A62: 03 | B62: 01 | C62: 01 | D62: Paskolų grąžinimas | E62: 01 | F62: 188718528 | G62: A5 | P62: 618.9 | X62: =P62 -> 618.9 | Y62: 0 | Z62: 0 | AA62: =X62 -> 618.9 | AF62: 772.9 | AN62: =AF62 -> 772.9 | AO62: 0 | AP62: 0 | AQ62: =AN62 -> 772.9 | AV62: 810.9 | BD62: =AV62 -> 810.9 | BE62: 0 | BF62: 0 | BG62: =BD62 -> 810.9 | BL62: 810.9 | BT62: =BL62 -> 810.9 | BU62: 0 | BV62: 0 | BW62: =BT62 -> 810.9 | BX62: Grąžinta paskolų, tūkst. Eur | BY62: 618.9 | BZ62: 772.9 | CA62: 810.9 | CB62: 810.9
A63: 03 | B63: 01 | C63: 02 | D63: Palūkanų už paskolas mokėjimas | E63: 01 | F63: 188718528 | G63: A5 | P63: 191.1 | X63: =P63 -> 191.1 | Y63: =P63 -> 191.1 | Z63: 0 | AA63: 0 | AF63: 242.9 | AN63: =AF63 -> 242.9 | AO63: =AN63 -> 242.9 | AP63: 0 | AQ63: 0 | AV63: 210.6 | BD63: =AV62:AV63 -> 210.6 | BE63: =AV63 -> 210.6 | BF63: 0 | BG63: 0 | BL63: 173.8 | BT63: =BL63 -> 173.8 | BU63: =BT63 -> 173.8 | BV63: 0 | BW63: 0 | BX63: Sumokėtos palūkanos už paskolas, tūkst. Eur | BY63: 191.1 | BZ63: 242.9 | CA63: 210.6 | CB63: 173.8
A64: 03 | B64: 01 | C64: Iš viso uždaviniui | H64: =SUM(H62:H63) -> 0 | I64: =SUM(I62:I63) -> 0 | J64: =SUM(J62:J63) -> 0 | K64: =SUM(K62:K63) -> 0 | P64: =SUM(P62:P63) -> 810 | X64: =SUM(X62:X63) -> 810 | Y64: =SUM(Y62:Y63) -> 191.1 | Z64: =SUM(Z62:Z63) -> 0 | AA64: =SUM(AA62:AA63) -> 618.9 | AF64: =SUM(AF62:AF63) -> 1015.8 | AN64: =SUM(AN62:AN63) -> 1015.8 | AO64: =SUM(AO62:AO63) -> 242.9 | AP64: =SUM(AP62:AP63) -> 0 | AQ64: =SUM(AQ62:AQ63) -> 772.9 | AV64: =SUM(AV62:AV63) -> 1021.5 | BD64: =SUM(BD62:BD63) -> 1021.5 | BE64: =SUM(BE62:BE63) -> 210.6 | BF64: =SUM(BF62:BF63) -> 0 | BG64: =SUM(BG62:BG63) -> 810.9 | BL64: =SUM(BL62:BL63) -> 984.7 | BT64: =SUM(BT62:BT63) -> 984.7 | BU64: =SUM(BU62:BU63) -> 173.8 | BV64: =SUM(BV62:BV63) -> 0 | BW64: =SUM(BW62:BW63) -> 810.9
A65: 03 | B65: Iš viso tikslui | H65: =SUM(H62:H63) -> 0 | I65: =SUM(I62:I63) -> 0 | J65: =SUM(J62:J63) -> 0 | K65: =SUM(K62:K63) -> 0 | P65: =SUM(P62:P63) -> 810 | X65: =SUM(X62:X63) -> 810 | Y65: =SUM(Y62:Y63) -> 191.1 | Z65: =SUM(Z62:Z63) -> 0 | AA65: =SUM(AA62:AA63) -> 618.9 | AF65: =SUM(AF62:AF63) -> 1015.8 | AN65: =SUM(AN62:AN63) -> 1015.8 | AO65: =SUM(AO62:AO63) -> 242.9 | AP65: =SUM(AP62:AP63) -> 0 | AQ65: =SUM(AQ62:AQ63) -> 772.9 | AV65: =SUM(AV62:AV63) -> 1021.5 | BD65: =SUM(BD62:BD63) -> 1021.5 | BE65: =SUM(BE62:BE63) -> 210.6 | BF65: =SUM(BF62:BF63) -> 0 | BG65: =SUM(BG62:BG63) -> 810.9 | BL65: =SUM(BL62:BL63) -> 984.7 | BT65: =SUM(BT62:BT63) -> 984.7 | BU65: =SUM(BU62:BU63) -> 173.8 | BV65: =SUM(BV62:BV63) -> 0 | BW65: =SUM(BW62:BW63) -> 810.9
A66: 04 | B66: Užtikrinti gyventojų saugumą gesinant gaisrus ir vykdant gelbėjimo darbus
A67: 04 | B67: 01 | C67: Užtikrinti visuomenės, materialaus turto ir aplinkos apsaugą, operatyviai ir laiku pasiekti nelaimės vietą, modernizuoti gelbėjimo sistemą, užtikrinti gaisrų prevenciją ir visuomenės švietimą šioje srityje
A68: 04 | B68: 01 | C68: 01 | D68: Priešgaisrinės saugos organizavimas | E68: 03 | F68: 188731956 | G68: P1 | P68: 3.8 | Q68: 464.9 | X68: =P68+Q68 -> 468.7 | Y68: 467.8 | Z68: 332.3 | AA68: 0.9 | AF68: 3.8 | AG68: 519.4 | AN68: =AF68+AG68 -> 523.2 | AO68: =AN68 -> 523.2 | AP68: 360.9 | AQ68: 0 | AV68: 3.8 | AW68: 519.3 | BD68: =523.1 -> 523.1 | BE68: =BD68 -> 523.1 | BF68: 360.9 | BG68: 0 | BL68: 3.8 | BM68: 519.3 | BT68: =BL68+BM68 -> 523.1 | BU68: =BT68 -> 523.1 | BV68: 360.9 | BW68: 0 | BX68: Iškvietimų skaičiaus kaita, vnt | BY68: 300 | BZ68: 305 | CA68: 298 | CB68: 299
D69: Operatyviai ir laiku pasiekiama nelaimės vieta, vykdoma gaisrų prevencija
D70: Vykdoma visuomenės švietimas, aprūpinama apsaugos ir gelbėjimo įranga | BX70: Priešgaisrinio inventoriaus įsigijimas, vnt | BY70: 16 | BZ70: 0 | CA70: 16 | CB70: 16
D71: Įstatymų nustatyta tvarka mokami atlyginimai darbuotojams | BX71: Darbuotojų skaičius, vnt | BY71: 74 | BZ71: 74 | CA71: 74 | CB71: 74
D72: Keliama darbuotojų kvalifikacija, dalyvaujama įvariuose mokymuose | BX72: Kvalifikacijos kėlimas dalyvavimas mokymuose, darbuotojų sk. | BY72: 10 | BZ72: 74 | CA72: 74 | CB72: 74
D73: Stiprinama ugniagesių komandų materialinė bazė | BX73: Ugniagesių komandų patalpų būklės gerinimas, komandų sk. | BY73: 3 | BZ73: 2 | CA73: 4 | CB73: 3
D74: Palaikoma pagrindinius higienos, ergonomikos reikalavimus atitinkanti aplinka | BX74: Darbuotojų sveikatos tikrinimas, darbuotojų sk. | BZ74: 72 | CB74: 72
A75: 04 | B75: 01 | C75: Iš viso uždaviniui | H75: =SUM(H73:H74) -> 0 | I75: =SUM(I73:I74) -> 0 | J75: =SUM(J73:J74) -> 0 | K75: =SUM(K73:K74) -> 0 | P75: =SUM(P68) -> 3.8 | Q75: =SUM(Q68) -> 464.9 | X75: =SUM(X68) -> 468.7 | Y75: =SUM(Y68) -> 467.8 | Z75: =SUM(Z68) -> 332.3 | AA75: =SUM(AA68) -> 0.9 | AF75: =SUM(AF68) -> 3.8 | AG75: =SUM(AG68) -> 519.4 | AN75: =SUM(AN68) -> 523.2 | AO75: =SUM(AO68) -> 523.2 | AP75: =SUM(AP68) -> 360.9 | AQ75: =SUM(AQ68) -> 0 | AV75: =SUM(AV68) -> 3.8 | AW75: =SUM(AW68) -> 519.3 | BD75: =SUM(BD68) -> 523.1 | BE75: =SUM(BE68) -> 523.1 | BF75: =SUM(BF68) -> 360.9 | BG75: =SUM(BG68) -> 0 | BL75: =SUM(BL68) -> 3.8 | BM75: =SUM(BM68) -> 519.3 | BT75: =SUM(BT68) -> 523.1 | BU75: =SUM(BU68) -> 523.1 | BV75: =SUM(BV68) -> 360.9 | BW75: =SUM(BW68) -> 0
A76: 04 | B76: Iš viso tikslui | H76: =#REF!+#REF!+H75 -> #REF! | I76: =#REF!+#REF!+I75 -> #REF! | J76: =#REF!+#REF!+J75 -> #REF! | K76: =#REF!+#REF!+K75 -> #REF! | P76: =P75 -> 3.8 | Q76: =Q75 -> 464.9 | X76: =X75 -> 468.7 | Y76: =Y75 -> 467.8 | Z76: =Z75 -> 332.3 | AA76: =AA75 -> 0.9 | AF76: =AF75 -> 3.8 | AG76: =AG75 -> 519.4 | AN76: =AN75 -> 523.2 | AO76: =AO75 -> 523.2 | AP76: =AP75 -> 360.9 | AQ76: =AQ75 -> 0 | AV76: =AV75 -> 3.8 | AW76: =AW75 -> 519.3 | BD76: =BD75 -> 523.1 | BE76: =BE75 -> 523.1 | BF76: =BF75 -> 360.9 | BG76: =BG75 -> 0 | BL76: =BL75 -> 3.8 | BM76: =BM75 -> 519.3 | BT76: =BT75 -> 523.1 | BU76: =BU75 -> 523.1 | BV76: =BV75 -> 360.9 | BW76: =BW75 -> 0
A77: 02 | B77: Iš viso programai | H77: =H53+H65+H76 -> #REF! | I77: =I53+I65+I76 -> #REF! | J77: =J53+J65+J76 -> #REF! | K77: =K53+K65+K76 -> #REF! | L77: =L53+L59+L65+L76 -> 14.2 | N77: =N53+N59+N65+N76 -> 92.7 | P77: =P53+P59+P65+P76 -> 2675.1 | Q77: =Q53+Q59+Q65+Q76 -> 539.07 | X77: =X53+X59+X65+X76 -> 3306.9 | Y77: =Y53+Y59+Y65+Y76 -> 2563.57 | Z77: =Z53+Z59+Z65+Z76 -> 1326 | AA77: =AA53+AA59+AA65+AA76 -> 743.3 | AB77: =AB53+AB59+AB65+AB76 -> 14.8 | AD77: =AD53+AD59+AD65+AD76 -> 86.9 | AF77: =AF53+AF59+AF65+AF76 -> 3025.3 | AG77: =AG53+AG59+AG65+AG76 -> 601.14 | AN77: =AN53+AN59+AN65+AN76 -> 3713.37 | AO77: =AO53+AO59+AO65+AO76 -> 2810.07 | AP77: =AP53+AP59+AP65+AP76 -> 1373.3 | AQ77: =AQ53+AQ59+AQ65+AQ76 -> 903.3 | AT77: =AT53+AT59+AT65+AT76 -> 111.8 | AV77: =AV53+AV59+AV65+AV76 -> 3035.7 | AW77: =AW53+AW59+AW65+AW76 -> 595.77 | BD77: =BD53+BD59+BD65+BD76 -> 3743.3 | BE77: =BE53+BE59+BE65+BE76 -> 2777.17 | BF77: =BF53+BF59+BF65+BF76 -> 1376.9 | BG77: =BG53+BG59+BG65+BG76 -> 966.1 | BL77: =BL53+BL59+BL65+BL76 -> 3002.8 | BM77: =BM53+BM59+BM65+BM76 -> 595.77 | BT77: =BT53+BT59+BT65+BT76 -> 3598.6 | BU77: =BU53+BU59+BU65+BU76 -> 2744.27 | BV77: =BV53+BV59+BV65+BV76 -> 1381.3 | BW77: =BW53+BW59+BW65+BW76 -> 854.3
