Workbook
Name OLE_LINK1: '2 lentele tūkst. Eur'!$BX$22
Name OLE_LINK1: '2 lentele tūkst. Lt '!$BX$22

Sheet 2 lentele tūkst. Lt 
BZ3: 2 lentelė
A4: 2014-2016 METŲ SAVIVALDYBĖS VEIKLOS, PAGRINDINIŲ FUNKCIJŲ VYKDYMO, STRATEGIJOS FORMAVIMO IR JOS ĮGYVENDINIMO PROGRAMOS
A5: TIKSLŲ, UŽDAVINIŲ IR PRIEMONIŲ IŠLAIDŲ SUVESTINĖ
CA6: tūkst. Lt
A7: Programos tikslo kodas | B7: Uždavinio kodas | C7: Priemonės kodas | D7: Priemonės pavadinimas | E7: Funkcinės klasifikacijos kodas | F7: Asignavimų valdytojo kodas | G7: Priemonės vykdytojo kodas | L7: 2014 | AB7: 2015 | AR7: 2016 | BH7: 2017 | BX7: Uždavinio vertinimo kriterijus
H8: 2012 m. išlaidų projektas | L8: Lėšos pagal finansavimo šaltinius | X8: Savivaldybės biudžeto patvirtinti asignavimai | AB8: Lėšos pagal finansavimo šaltinius | AN8: Numatomi Savivaldybės biudžeto asignavimai | AR8: Lėšos pagal finansavimo šaltinius | BD8: Numatomi Savivaldybės biudžeto asignavimai | BH8: Lėšos pagal finansavimo šaltinius | BT8: Numatomi Savivaldybės biudžeto asignavimai | BX8: Pavadinimas | BY8: Metai
H9: Iš viso | I9: Išlaidoms | K9: Turtui įsigyti ir finansiniams įsipareigojimams vykdyti | L9: Valstybės biudžetas | P9: Savivaldybės biudžetas | T9: ES lėšos | U9: Kitos lėšos | X9: Iš viso | Y9: Išlaidoms | AA9: Turtui įsigyti ir finansiniams įsipareigojimams vykdyti | AB9: Valstybės biudžetas | AF9: Savivaldybės biudžetas | AJ9: ES lėšos | AK9: Kitos lėšos | AN9: Iš viso | AO9: Išlaidoms | AQ9: Turtui įsigyti ir finansiniams įsipareigojimams vykdyti | AR9: Valstybės biudžetas | AV9: Savivaldybės biudžetas | AZ9: ES lėšos | BA9: Kitos lėšos | BD9: Iš viso | BE9: Išlaidoms | BG9: Turtui įsigyti ir finansiniams įsipareigojimams vykdyti | BH9: Valstybės biudžetas | BL9: Savivaldybės biudžetas | BP9: ES lėšos | BQ9: Kitos lėšos | BT9: Iš viso | BU9: Išlaidoms | BW9: Turtui įsigyti ir finansiniams įsipareigojimams vykdyti | BY9: 2014 | BZ9: 2015 | CA9: 2016 | CB9: 2017
I10: Iš viso | J10: Iš jų - darbo užmokesčiui | L10: Valstybės biudžetas | M10: Kelių priežiūros ir plėtros programos lėšos | N10: VIP lėšos | O10: Privalomojo sveikatos draudimo lėšos | P10: Savivaldybės biudžetas | Q10: Valstybės biudžeto spec. tikslinė dotacija | R10: Aplinkos apsaugos rėmimo spec. programa | S10: Biudžetinių įstaigų pajamos | U10: Paskolos lėšos | V10: Privatizavimo fondo lėšos | W10: Kiti finansavimo šaltiniai | Y10: Iš viso | Z10: Iš jų - darbo užmokesčiui | AB10: Valstybės biudžetas | AC10: Kelių priežiūros ir plėtros programos lėšos | AD10: VIP lėšos | AE10: Privalomojo sveikatos draudimo lėšos | AF10: Savivaldybės biudžetas | AG10: Valstybės biudžeto spec. tikslinė dotacija | AH10: Aplinkos apsaugos rėmimo spec. programa | AI10: Biudžetinių įstaigų pajamos | AK10: Paskolos lėšos | AL10: Privatizavimo fondo lėšos | AM10: Kiti finansavimo šaltiniai | AO10: Iš viso | AP10: Iš jų - darbo užmokesčiui | AR10: Valstybės biudžetas | AS10: Kelių priežiūros ir plėtros programos lėšos | AT10: VIP lėšos | AU10: Privalomojo sveikatos draudimo lėšos | AV10: Savivaldybės biudžetas | AW10: Valstybės biudžeto spec. tikslinė dotacija | AX10: Aplinkos apsaugos rėmimo spec. programa | AY10: Biudžetinių įstaigų pajamos | BA10: Paskolos lėšos | BB10: Privatizavimo fondo lėšos | BC10: Kiti finansavimo šaltiniai | BE10: Iš viso | BF10: Iš jų - darbo užmokesčiui | BH10: Valstybės biudžetas | BI10: Kelių priežiūros ir plėtros programos lėšos | BJ10: VIP lėšos | BK10: Privalomojo sveikatos draudimo lėšos | BL10: Savivaldybės biudžetas | BM10: Valstybės biudžeto spec. tikslinė dotacija | BN10: Aplinkos apsaugos rėmimo spec. programa | BO10: Biudžetinių įstaigų pajamos | BQ10: Paskolos lėšos | BR10: Privatizavimo fondo lėšos | BS10: Kiti finansavimo šaltiniai | BU10: Iš viso | BV10: Iš jų - darbo užmokesčiui
A11: 02 PROGRAMA.SAVIVALDYBĖS VEIKLOS, PAGRINDINIŲ FUNKCIJŲ VYKDYMO, STRATEGIJOS FORMAVIMO IR JOS ĮGYVENDINIMO
A12: 01
A13: 01 | B13: Efektyviai organizuoti Savivaldybės darbą, tinkamai įgyvendinant jos funkcijas
A14: 01 | B14: 01 | C14: Sudaryti sąlygas Savivaldybės funkcijoms įgyvendinti
A15: 01 | B15: 01 | C15: 01 | D15: Savivaldos institucijų veiklos organizavimas( Savivaldybės taryba) | E15: 01 | F15: 188718528 | G15: A0 | P15: 950 | X15: =P15 -> 950 | Y15: =X15-AA15 -> 938 | Z15: 365 | AA15: 12 | AF15: 0 | AN15: =AF15 -> 0 | AO15: 0 | AP15: 0 | AQ15: 0 | AV15: 0 | BD15: =AV15 -> 0 | BE15: 0 | BF15: 0 | BG15: 0 | BL15: 0 | BT15: =BL15 -> 0 | BU15: 0 | BV15: 0 | BW15: 0
D16: Savivaldybės tarybos finansinio, ūkinio bei materialinio aptarnavimo užtikrinimas
A17: 01 | B17: 01 | C17: 02 | D17: Savivaldybės administracijos veiklos programos organizavimas | E17: 01 | F17: 188718528 | G17: A0 | P17: 5021.1 | X17: =SUM(P17:Q17) -> 5021.1 | Y17: 4933.7 | Z17: 2747.6 | AA17: 87.4 | AF17: 0 | AN17: =SUM(AF17:AG17) -> 0 | AO17: 0 | AP17: 0 | AQ17: 0 | AV17: 0 | BD17: =SUM(AV17:AW17) -> 0 | BE17: 0 | BF17: 0 | BG17: 0 | BL17: 0 | BT17: =SUM(BL17:BM17) -> 0 | BU17: 0 | BV17: 0 | BW17: 0
D18: Administracija ( bendrų ekonominių ir soc. planų ir programų formulavimas, koordinavimas, priežiūra, administravimas ir valdymas)
A19: 01 | B19: 01 | C19: 03 | D19: Įsigytų objektų už ES lėšas draudimas | E19: 01 | F19: 188718528 | G19: A0 | P19: 60 | X19: =P19 -> 60 | Y19: =P19 -> 60 | Z19: 0 | AA19: 0 | AF19: 0 | AN19: =AF19 -> 0 | AO19: =AF19 -> 0 | AP19: 0 | AQ19: 0 | AV19: 0 | BD19: =AV19 -> 0 | BE19: =AV19 -> 0 | BF19: 0 | BG19: 0 | BL19: 0 | BT19: =BL19 -> 0 | BU19: =BL19 -> 0 | BV19: 0 | BW19: 0
A20: 01 | B20: 01 | C20: 04 | D20: Civilinės būklės aktų registravimas | E20: 01 | F20: 188718528 | G20: A2 | P20: 17 | X20: 17 | Y20: 17 | Z20: 0 | AA20: 0 | AF20: 0 | AN20: =AF20 -> 0 | AO20: =AF20 -> 0 | AP20: 0 | AQ20: 0 | AV20: 0 | BD20: =AV20 -> 0 | BE20: =BD20 -> 0 | BF20: =AX20 -> 0 | BG20: =AZ20 -> 0 | BL20: 0 | BT20: =BM20 -> 0 | BU20: =BL20 -> 0 | BV20: 0 | BW20: 0
A22: 01 | B22: 01 | C22: 05 | D22: Valstybinės kalbos vartojimo ir taisyklingumo kontrolė | E22: 01 | F22: 188718528 | G22: A3 | P22: 25.2 | X22: =P22 -> 25.2 | Y22: =X22 -> 25.2 | Z22: 19.2 | AA22: 0 | AF22: 0 | AN22: 0 | AO22: 0 | AP22: 0 | AQ22: 0 | AV22: 0 | BD22: 0 | BE22: 0 | BF22: 0 | BG22: 0 | BL22: 0 | BT22: 0 | BU22: 0 | BV22: 0 | BW22: 0 | BX22: Informacinė ir šviečiamoji veikla: Atminties interneto svetainėje ,vnt. Suteikta rekomendacijų, vnt. | BY22: 15 70 | BZ22: 10 75 | CA22: 15 70 | CB22: 15 77
BX23: Per metus patikrinta:
BX24: Įstaigų dokumentų, vnt. | BY24: 200 | BZ24: 250 | CA24: 210 | CB24: 230
BX25: Visuomenės informavimo priemonių, vnt. | BY25: 40 | BZ25: 49 | CA25: 42 | CB25: 46
BX26: Reklamos ir viešųjų užrašų,vnt. | BY26: 75 | BZ26: 82 | CA26: 80 | CB26: 85
BX27: Suteikta konsultacijų juridiniams ir fiziniams asmenims, vnt. | BY27: 133 | BZ27: 140 | CA27: 139 | CB27: 139
A28: 01 | B28: 01 | C28: 06 | D28: Gyvenamųjų ir negyvenamųjų patalpų nuoma (pajamos už paslaugas) | E28: 01 | F28: 188718528 | G28: A0 | P28: 24.1 | X28: =P28 -> 24.1 | Y28: 24.1 | Z28: 0 | AA28: 0 | AF28: 0 | AN28: =0 -> 0 | AO28: =AN28 -> 0 | AP28: 0 | AQ28: 0 | BD28: =AV28 -> 0 | BE28: 0 | BF28: 0 | BG28: 0 | BL28: 0 | BT28: =BL28 -> 0 | BU28: =BL28 -> 0 | BV28: 0 | BW28: 0
A29: 01 | B29: 01 | C29: 07 | D29: Poliklinikos pastato Alytuje, Naujoji g. 48, energetinio efektyvumo didinimas, rekonstravimas | E29: 01 | F29: 188718528 | G29: A0 | N29: 320 | X29: =N29 -> 320 | Y29: 0 | Z29: 0 | AA29: 320 | AD29: 0 | AN29: =AD29 -> 0 | AO29: =0 -> 0 | AP29: 0 | AQ29: 0 | AT29: 0 | BD29: =AT29 -> 0 | BE29: 0 | BF29: 0 | BG29: 0 | BJ29: 0 | BT29: =BJ29 -> 0 | BU29: 0 | BV29: 0 | BW29: 0 | BX29: Įgyvendintas projektas, vnt | BY29: 1 | BZ29: 1 | CA29: 1 | CB29: 1
A30: 01 | B30: 01 | C30: 08 | D30: Savivaldybei priskirtų archyvinių dokumentų tvarkymas pajamos už paslaugas) | E30: 01 | F30: 188718528 | G30: A3 | P30: 1 | X30: 1 | Y30: 1 | Z30: 0 | AA30: 0 | AF30: 0 | AN30: =AF30 -> 0 | AO30: =AF30 -> 0 | AP30: 0 | AQ30: 0 | AV30: 0 | BD30: =AV30 -> 0 | BE30: =AV30 -> 0 | BF30: 0 | BG30: 0 | BL30: 0 | BT30: =BL30 -> 0 | BU30: =BL30 -> 0 | BV30: 0 | BW30: 0
A31: 01 | B31: 01 | C31: Iš viso uždaviniui | H31: =SUM(H16:H29) -> 0 | I31: =SUM(I16:I29) -> 0 | J31: =SUM(J16:J29) -> 0 | K31: =SUM(K16:K29) -> 0 | N31: =N15+N17+N19+N20+N22+N28+N29+N30 -> 320 | P31: =P15+P17+P19+P20+P22+P28+P29+P30 -> 6098.4 | X31: =X15+X17+X19+X20+X22+X28+X29+X30 -> 6418.4 | Y31: =Y15+Y17+Y19+Y20+Y22+Y28+Y29+Y30 -> 5999 | Z31: =Z15+Z17+Z19+Z20+Z22+Z28+Z29+Z30 -> 3131.8 | AA31: =AA15+AA17+AA19+AA20+AA22+AA28+AA29+AA30 -> 419.4 | AD31: =AD15+AD17+AD19+AD20+AD22+AD28+AD29+AD30 -> 0 | AF31: =AF15+AF17+AF19+AF20+AF22+AF28+AF29+AF30 -> 0 | AN31: =AN15+AN17+AN19+AN20+AN22+AN28+AN29+AN30 -> 0 | AO31: =AO15+AO17+AO19+AO20+AO22+AO28+AO29+AO30 -> 0 | AP31: =AP15+AP17+AP19+AP20+AP22+AP28+AP29+AP30 -> 0 | AQ31: =AQ15+AQ17+AQ19+AQ20+AQ22+AQ28+AQ29+AQ30 -> 0 | AT31: =AT15+AT17+AT19+AT20+AT22+AT28+AT29+AT30 -> 0 | AV31: =AV15+AV17+AV19+AV20+AV22+AV28+AV29+AV30 -> 0 | BD31: =BD15+BD17+BD19+BD20+BD22+BD28+BD29+BD30 -> 0 | BE31: =BE15+BE17+BE19+BE20+BE22+BE28+BE29+BE30 -> 0 | BF31: =BF15+BF17+BF19+BF20+BF22+BF28+BF29+BF30 -> 0 | BG31: =BG15+BG17+BG19+BG20+BG22+BG28+BG29+BG30 -> 0 | BJ31: =BJ15+BJ17+BJ19+BJ20+BJ22+BJ28+BJ29+BJ30 -> 0 | BL31: =BL15+BL17+BL19+BL20+BL22+BL28+BL29+BL30 -> 0 | BT31: =BT15+BT17+BT19+BT20+BT22+BT28+BT29+BT30 -> 0 | BU31: =BU15+BU17+BU19+BU20+BU22+BU28+BU29+BU30 -> 0 | BV31: =BV15+BV17+BV19+BV20+BV22+BV28+BV29+BV30 -> 0 | BW31: =BW15+BW17+BW19+BW20+BW22+BW28+BW29+BW30 -> 0
A32: 01 | B32: 02 | C32: Vykdyti valstybines ( perduotas savivaldybei) funkcijas
A33: 01 | B33: 02 | C33: 01 | D33: Gyvenamosios vietos deklaravimo duomenų ir gyvenamosios vietos neturinčių asmenų apskaitos duomenų tvarkymas | E33: 01 | F33: 188718528 | G33: A2 | Q33: 37.5 | X33: =Q33 -> 37.5 | Y33: =X33 -> 37.5 | Z33: 7.8 | AA33: 0 | AG33: 0 | AN33: =AG33 -> 0 | AO33: =AN33 -> 0 | AP33: 0 | AQ33: 0 | AW33: 0 | BD33: =AW33 -> 0 | BE33: =BD33 -> 0 | BF33: 0 | BG33: 0 | BM33: 37.5 | BT33: =BM33 -> 37.5 | BU33: =BT33 -> 37.5 | BV33: 7.8 | BW33: 0 | BX33: Įregistruota santuokų, vnt | BY33: 75 | BZ33: 75 | CA33: 75 | CB33: 75
A34: 01 | B34: 02 | C34: 02 | D34: Duomenų teikimas suteiktos valstybės pagalbos registrui | E34: 01 | F34: 188718528 | G34: A2 | Q34: 2 | X34: 2 | Y34: 2 | Z34: 1.5 | AA34: 0 | AG34: 0 | AN34: =AG34 -> 0 | AO34: =AG34 -> 0 | AP34: 0 | AQ34: 0 | AW34: 0 | BD34: =AW34 -> 0 | BE34: =AW34 -> 0 | BF34: 0 | BG34: 0 | BM34: 2.4 | BT34: 2.4 | BU34: 2.4 | BV34: 1.8 | BW34: 0 | BX34: Įregistruota ištuokų, vnt | BY34: 93 | BZ34: 93 | CA34: 93 | CB34: 93
A35: 01 | B35: 02 | C35: 03 | D35: Gyventojų registro tvarkymas ir duomenų teikimas valstybės registrams | E35: 01 | F35: 188718528 | G35: A2 | Q35: 1.5 | X35: 1.5 | Y35: 1.5 | Z35: 1.2 | AA35: 0 | AG35: 0 | AN35: =AG35 -> 0 | AO35: =AN35 -> 0 | AP35: 0 | AQ35: 0 | AW35: 0 | BD35: =AW35 -> 0 | BE35: =AW35 -> 0 | BF35: 0 | BG35: 0 | BM35: 2 | BT35: 2 | BU35: 2 | BV35: 1.5 | BW35: 0 | BX35: Apskaityta santuokų, vnt | BY35: 25 | BZ35: 25 | CA35: 25 | CB35: 25
A36: 01 | B36: 02 | C36: 04 | D36: Civilinės būklės aktų registravimas | E36: 01 | F36: 188718528 | G36: A2 | Q36: 90.9 | X36: =Q36 -> 90.9 | Y36: =Q36 -> 90.9 | Z36: 63 | AA36: 0 | AG36: 0 | AN36: =AG36 -> 0 | AO36: =AN36 -> 0 | AP36: 0 | AQ36: 0 | AW36: 0 | BD36: =AW36 -> 0 | BE36: =BD36 -> 0 | BF36: 0 | BG36: 0 | BM36: 81.4 | BT36: =BM36 -> 81.4 | BU36: =BT36 -> 81.4 | BV36: 56.6 | BW36: 0 | BX36: Apskaityta ištuokų, vnt | BY36: 1 | BZ36: 1 | CA36: 1 | CB36: 1
BX37: Ištaisytos, papildytos bylos, vnt | BY37: 176 | BZ37: 176 | CA37: 176 | CB37: 176
BX38: Vardo, pavardės keitimo bylos, vnt | BY38: 5 | BZ38: 5 | CA38: 5 | CB38: 5
BX39: Įregistruota gimimų, vnt | BY39: 245 | BZ39: 245 | CA39: 245 | CB39: 245
BX40: Apskaityta giminų, vnt | BY40: 61 | BZ40: 61 | CA40: 61 | CB40: 61
BX41: Išduota pakartotinių liudijimų, vnt | BY41: 241 | BZ41: 241 | CA41: 241 | CB41: 241
BX42: Išduota civilinės būklės aktų kopijų, vnt | BY42: 197 | BZ42: 197 | CA42: 197 | CB42: 197
BX43: Išduota pažymų apie šeiminę padėtį, vnt | BY43: 5 | BZ43: 5 | CA43: 5 | CB43: 5
...

Sheet 2 lentele tūkst. Eur
CA3: 2 lentelė
A4: 2015-2017 METŲ SAVIVALDYBĖS VEIKLOS, PAGRINDINIŲ FUNKCIJŲ VYKDYMO, STRATEGIJOS FORMAVIMO IR JOS ĮGYVENDINIMO PROGRAMOS
A5: TIKSLŲ, UŽDAVINIŲ IR PRIEMONIŲ IŠLAIDŲ SUVESTINĖ
CA6: tūkst. Eur
A8: Programos tikslo kodas | B8: Uždavinio kodas | C8: Priemonės kodas | D8: Priemonės pavadinimas | E8: Funkcinės klasifikacijos kodas | F8: Asignavimų valdytojo kodas | G8: Priemonės vykdytojo kodas | L8: 2014 | AB8: 2015 | AR8: 2016 | BH8: 2017 | BX8: Uždavinio vertinimo kriterijus
H9: 2012 m. išlaidų projektas | L9: Lėšos pagal finansavimo šaltinius | X9: Savivaldybės biudžeto patvirtinti asignavimai | AB9: Lėšos pagal finansavimo šaltinius | AN9: Savivaldybės biudžeto asignavimų planas | AR9: Lėšos pagal finansavimo šaltinius | BD9: Numatomi Savivaldybės biudžeto asignavimai | BH9: Lėšos pagal finansavimo šaltinius | BT9: Numatomi Savivaldybės biudžeto asignavimai | BX9: Pavadinimas | BY9: Metai
H10: Iš viso | I10: Išlaidoms | K10: Turtui įsigyti ir finansiniams įsipareigojimams vykdyti | L10: Valstybės biudžetas | P10: Savivaldybės biudžetas | T10: ES lėšos | U10: Kitos lėšos | X10: Iš viso | Y10: Išlaidoms | AA10: Turtui įsigyti ir finansiniams įsipareigojimams vykdyti | AB10: Valstybės biudžetas | AF10: Savivaldybės biudžetas | AJ10: ES lėšos | AK10: Kitos lėšos | AN10: Iš viso | AO10: Išlaidoms | AQ10: Turtui įsigyti ir finansiniams įsipareigojimams vykdyti | AR10: Valstybės biudžetas | AV10: Savivaldybės biudžetas | AZ10: ES lėšos | BA10: Kitos lėšos | BD10: Iš viso | BE10: Išlaidoms | BG10: Turtui įsigyti ir finansiniams įsipareigojimams vykdyti | BH10: Valstybės biudžetas | BL10: Savivaldybės biudžetas | BP10: ES lėšos | BQ10: Kitos lėšos | BT10: Iš viso | BU10: Išlaidoms | BW10: Turtui įsigyti ir finansiniams įsipareigojimams vykdyti | BY10: 2014 | BZ10: 2015 | CA10: 2016 | CB10: 2017
I11: Iš viso | J11: Iš jų - darbo užmokesčiui | L11: Valstybės biudžeto lėšos | M11: Kelių priežiūros ir plėtros programos lėšos | N11: VIP lėšos | O11: Privalomojo sveikatos draudimo lėšos | P11: Savivaldybės biudžeto lėšos | Q11: Valstybės biudžeto spec. tikslinė dotacija | R11: Aplinkos apsaugos rėmimo spec. programa | S11: Biudžetinių įstaigų pajamos | U11: Paskolos lėšos | V11: Privatizavimo fondo lėšos | W11: Kiti finansavimo šaltiniai | Y11: Iš viso | Z11: Iš jų - darbo užmokesčiui | AB11: Valstybės biudžeto lėšos | AC11: Kelių priežiūros ir plėtros programos lėšos | AD11: VIP lėšos | AE11: Privalomojo sveikatos draudimo lėšos | AF11: Savivaldybės biudžeto lėšos | AG11: Valstybės biudžeto spec. tikslinė dotacija | AH11: Aplinkos apsaugos rėmimo spec. programa | AI11: Biudžetinių įstaigų pajamos | AK11: Paskolos lėšos | AL11: Privatizavimo fondo lėšos | AM11: Kiti finansavimo šaltiniai | AO11: Iš viso | AP11: Iš jų - darbo užmokesčiui | AR11: Valstybės biudžeto lėšos | AS11: Kelių priežiūros ir plėtros programos lėšos | AT11: VIP lėšos | AU11: Privalomojo sveikatos draudimo lėšos | AV11: Savivaldybės biudžeto lėšos | AW11: Valstybės biudžeto spec. tikslinė dotacija | AX11: Aplinkos apsaugos rėmimo spec. programa | AY11: Biudžetinių įstaigų pajamos | BA11: Paskolos lėšos | BB11: Privatizavimo fondo lėšos | BC11: Kiti finansavimo šaltiniai | BE11: Iš viso | BF11: Iš jų - darbo užmokesčiui | BH11: Valstybės biudžeto lėšos | BI11: Kelių priežiūros ir plėtros programos lėšos | BJ11: VIP lėšos | BK11: Privalomojo sveikatos draudimo lėšos | BL11: Savivaldybės biudžeto lėšos | BM11: Valstybės biudžeto spec. tikslinė dotacija | BN11: Aplinkos apsaugos rėmimo spec. programa | BO11: Biudžetinių įstaigų pajamos | BQ11: Paskolos lėšos | BR11: Privatizavimo fondo lėšos | BS11: Kiti finansavimo šaltiniai | BU11: Iš viso | BV11: Iš jų - darbo užmokesčiui
A12: 02 PROGRAMA.SAVIVALDYBĖS VEIKLOS, PAGRINDINIŲ FUNKCIJŲ VYKDYMO, STRATEGIJOS FORMAVIMO IR JOS ĮGYVENDINIMO
A13: 01 | B13: Efektyviai organizuoti Savivaldybės darbą, tinkamai įgyvendinant jos funkcijas
A14: 01 | B14: 01 | C14: Sudaryti sąlygas Savivaldybės funkcijoms įgyvendinti
A15: 01 | B15: 01 | C15: 01 | D15: Savivaldos institucijų veiklos programos įgyvendinimas | E15: 01 | F15: 188718528 | G15: A0 | P15: 275.1 | X15: =P15 -> 275.1 | Y15: 271.6 | Z15: 105.7 | AA15: 3.5 | AF15: 294.1 | AN15: =AF15+ROUND('2 lentele tūkst. Lt '!AN15/3.4528,1) -> 294.1 | AO15: 291.2 | AP15: 112 | AQ15: 2.9 | AV15: 294.1 | BD15: =AV15+ROUND('2 lentele tūkst. Lt '!BD15/3.4528,1) -> 294.1 | BE15: 291.2 | BF15: 112 | BG15: 2.9 | BL15: 294.1 | BT15: =BL15+ROUND('2 lentele tūkst. Lt '!BT15/3.4528,1) -> 294.1 | BU15: 291.2 | BV15: 112 | BW15: 2.9 | BX15: Perduodamų asmenų prašymų savivaldybės struktūriniams padaliniams, tarpininkaujant seniūnijoms, skaičius, vnt. | BY15: 98 | BZ15: 101 | CA15: 105 | CB15: 102
D16: Savivaldybės tarybos finansinio, ūkinio bei materialinio aptarnavimo užtikrinimas
A17: 01 | B17: 01 | C17: 02 | D17: Savivaldybės administracijos veiklos programos organizavimas | E17: 01 | F17: 188718528 | G17: A0 | P17: 1454.2 | X17: =SUM(P17:Q17) -> 1454.2 | Y17: 1428.9 | Z17: 795.8 | AA17: 25.3 | AF17: 1499.1 | AN17: =SUM(AF17:AG17) -> 1499.1 | AO17: 1458.5 | AP17: 807.4 | AQ17: 40.6 | AV17: 1503.1 | BD17: =SUM(AV17:AW17) -> 1503.1 | BE17: 1462.6 | BF17: 810.5 | BG17: 40.5 | BL17: 1508.6 | BT17: =SUM(BL17:BM17) -> 1508.6 | BU17: 1468.1 | BV17: 814.7 | BW17: 40.5
D18: Administracija ( bendrų ekonominių ir soc. planų ir programų formulavimas, koordinavimas, priežiūra, administravimas ir valdymas) | BX18: Savivaldybės tesiės aktų skelbimas Teisės aktų registre ir savivaldybės svetainės interneto puslapyje, įgyvendinimo terminas | BY18: Teisės aktų nustatytais terminais | BZ18: Teisės aktų nustatytais terminais | CA18: Teisės aktų nustatytais terminais | CB18: Teisės aktų nustatytais terminais
A19: 01 | B19: 01 | C19: 03 | D19: Įsigytų objektų iš ES lėšų draudimas | E19: 01 | F19: 188718528 | G19: A0 | P19: 17.4 | X19: =P19 -> 17.4 | Y19: =P19 -> 17.4 | Z19: =ROUND('2 lentele tūkst. Lt '!Z19/3.4528,1) -> 0 | AA19: =ROUND('2 lentele tūkst. Lt '!AA19/3.4528,1) -> 0 | AF19: 17.4 | AN19: =AF19 -> 17.4 | AO19: =AF19 -> 17.4 | AP19: =ROUND('2 lentele tūkst. Lt '!AP19/3.4528,1) -> 0 | AQ19: =ROUND('2 lentele tūkst. Lt '!AQ19/3.4528,1) -> 0 | AV19: 17.4 | BD19: =AV19 -> 17.4 | BE19: =AV19 -> 17.4 | BF19: =ROUND('2 lentele tūkst. Lt '!BF19/3.4528,1) -> 0 | BG19: =ROUND('2 lentele tūkst. Lt '!BG19/3.4528,1) -> 0 | BL19: 17.4 | BT19: =BL19 -> 17.4 | BU19: =BL19 -> 17.4 | BV19: =ROUND('2 lentele tūkst. Lt '!BV19/3.4528,1) -> 0 | BW19: =ROUND('2 lentele tūkst. Lt '!BW19/3.4528,1) -> 0
A20: 01 | B20: 01 | C20: 04 | D20: Civilinės būklės aktų registravimas | E20: 01 | F20: 188718528 | G20: A2 | P20: 4.9 | X20: =P20 -> 4.9 | Y20: =P20 -> 4.9 | Z20: =ROUND('2 lentele tūkst. Lt '!Z20/3.4528,1) -> 0 | AA20: =ROUND('2 lentele tūkst. Lt '!AA20/3.4528,1) -> 0 | AF20: 4.9 | AN20: =AF20 -> 4.9 | AO20: =AF20 -> 4.9 | AP20: =ROUND('2 lentele tūkst. Lt '!AP20/3.4528,1) -> 0 | AQ20: =ROUND('2 lentele tūkst. Lt '!AQ20/3.4528,1) -> 0 | AV20: 4.9 | BD20: =AV20 -> 4.9 | BE20: =AV20 -> 4.9 | BF20: =ROUND('2 lentele tūkst. Lt '!BF20/3.4528,1) -> 0 | BG20: =ROUND('2 lentele tūkst. Lt '!BG20/3.4528,1) -> 0 | BL20: 4.9 | BT20: =BL20 -> 4.9 | BU20: =BL20 -> 4.9 | BV20: =ROUND('2 lentele tūkst. Lt '!BV20/3.4528,1) -> 0 | BW20: =ROUND('2 lentele tūkst. Lt '!BW20/3.4528,1) -> 0
A22: 01 | B22: 01 | C22: 05 | D22: Valstybinės kalbos vartojimo ir taisyklingumo kontrolė | E22: 01 | F22: 188718528 | G22: A3 | P22: =ROUND('2 lentele tūkst. Lt '!P22/3.4528,1) -> 7.3 | X22: =P22 -> 7.3 | Y22: =X22 -> 7.3 | Z22: 5.6 | AA22: =ROUND('2 lentele tūkst. Lt '!AA22/3.4528,1) -> 0 | AF22: 7.3 | AN22: =AF22 -> 7.3 | AO22: =AN22 -> 7.3 | AP22: 5.6 | AQ22: =ROUND('2 lentele tūkst. Lt '!AQ22/3.4528,1) -> 0 | AV22: 7.3 | BD22: =AV22 -> 7.3 | BE22: =BD22 -> 7.3 | BF22: 5.6 | BG22: =ROUND('2 lentele tūkst. Lt '!BG22/3.4528,1) -> 0 | BL22: 7.3 | BT22: =BL22 -> 7.3 | BU22: =BT22 -> 7.3 | BV22: 5.6 | BW22: =ROUND('2 lentele tūkst. Lt '!BW22/3.4528,1) -> 0
A23: 01 | B23: 01 | C23: 06 | D23: Gyvenamųjų ir negyvenamųjų patalpų nuoma (pajamos už paslaugas) | E23: 01 | F23: 188718528 | G23: A0 | P23: 7 | X23: =P23 -> 7 | Y23: 7 | Z23: 0 | AA23: 0 | AF23: 86.9 | AN23: =AF23 -> 86.9 | AO23: =AN23 -> 86.9 | AP23: 0 | AQ23: 0 | AV23: 86.9 | BD23: =AV23 -> 86.9 | BE23: =AV23 -> 86.9 | BF23: 0 | BG23: 0 | BL23: 85.1 | BT23: =BL23 -> 85.1 | BU23: 85.1 | BV23: 0 | BW23: 0
A24: 01 | B24: 01 | C24: 07 | D24: Savivaldybei priskirtų archyvinių dokumentų tvarkymas (pajamos už paslaugas) | E24: 01 | F24: 188718528 | G24: A3 | P24: 0.3 | X24: =P24 -> 0.3 | Y24: =P24 -> 0.3 | Z24: 0 | AA24: 0 | AF24: 0.3 | AN24: =AF24 -> 0.3 | AO24: =AF24 -> 0.3 | AP24: 0 | AQ24: 0 | AV24: 0.3 | BD24: =AV24 -> 0.3 | BE24: =AV24 -> 0.3 | BF24: 0 | BG24: 0 | BL24: 0.3 | BT24: =BL24 -> 0.3 | BU24: =BL24 -> 0.3 | BV24: 0 | BW24: 0
A25: 01 | B25: 01 | C25: 08 | D25: Savivaldybių išlaidoms, patirtoms pritaikant informacines sistemas euro įvedimui, kompensuoti | E25: 01 | F25: 188718528 | G25: A0 | AG25: 5.27 | AN25: 5.27 | AO25: 5.3 | AP25: 0 | AQ25: 0
A26: 01 | B26: 01 | C26: Iš viso uždaviniui | H26: =SUM(H16:H48) -> 0 | I26: =SUM(I16:I48) -> 0 | J26: =SUM(J16:J48) -> 0 | K26: =SUM(K16:K48) -> 0 | P26: =SUM(P15:P25) -> 1766.2 | X26: =SUM(X15:X25) -> 1766.2 | Y26: =SUM(Y15:Y25) -> 1737.4 | Z26: =SUM(Z15:Z25) -> 907.1 | AA26: =SUM(AA15:AA25) -> 28.8 | AF26: =SUM(AF15:AF25) -> 1910 | AG26: =SUM(AG15:AG25) -> 5.27 | AN26: =SUM(AN15:AN25) -> 1915.27 | AO26: =SUM(AO15:AO25) -> 1871.8 | AP26: =SUM(AP15:AP25) -> 925 | AQ26: =SUM(AQ15:AQ25) -> 43.5 | AV26: =SUM(AV15:AV25) -> 1914 | BD26: =SUM(BD15:BD25) -> 1914 | BE26: =SUM(BE15:BE25) -> 1870.6 | BF26: =SUM(BF15:BF25) -> 928.1 | BG26: =SUM(BG15:BG25) -> 43.4 | BL26: =SUM(BL15:BL25) -> 1917.7 | BT26: =SUM(BT15:BT25) -> 1917.7 | BU26: =SUM(BU15:BU25) -> 1874.3 | BV26: =SUM(BV15:BV25) -> 932.3 | BW26: =SUM(BW15:BW25) -> 43.4
A27: 01 | B27: 02 | C27: Vykdyti valstybines ( perduotas savivaldybei) funkcijas
A28: 01 | B28: 02 | C28: 01 | D28: Gyvenamosios vietos deklaravimo duomenų ir gyvenamosios vietos neturinčių asmenų apskaitos duomenų tvarkymas | E28: 01 | F28: 188718528 | G28: A2 | Q28: 10.9 | X28: =Q28 -> 10.9 | Y28: =X28 -> 10.9 | Z28: 2.3 | AA28: 0 | AG28: 10.9 | AN28: =AG28 -> 10.9 | AO28: =AN28 -> 10.9 | AP28: 2.3 | AQ28: 0 | AW28: 10.9 | BD28: =AW28 -> 10.9 | BE28: =BD28 -> 10.9 | BF28: 2.3 | BG28: 0 | BM28: 10.9 | BT28: =BM28 -> 10.9 | BU28: =BT28 -> 10.9 | BV28: 2.3 | BW28: 0
A29: 01 | B29: 02 | C29: 02 | D29: Duomenų teikimas suteiktos valstybės pagalbos registrui | E29: 01 | F29: 188718528 | G29: A2 | Q29: 0.6 | X29: =Q29 -> 0.6 | Y29: =Q29 -> 0.6 | Z29: 0.4 | AA29: 0 | AG29: 0.7 | AN29: =AG29 -> 0.7 | AO29: =AG29 -> 0.7 | AP29: 0.5 | AQ29: 0 | AW29: 0.7 | BD29: =AW29 -> 0.7 | BE29: =AW29 -> 0.7 | BF29: 0.5 | BG29: 0 | BM29: 0.7 | BT29: 0.7 | BU29: 0.7 | BV29: 0.5 | BW29: 0
A30: 01 | B30: 02 | C30: 03 | D30: Gyventojų registro tvarkymas ir duomenų teikimas valstybės registrams | E30: 01 | F30: 188718528 | G30: A2 | Q30: 0.4 | X30: =Q30 -> 0.4 | Y30: =Q30 -> 0.4 | Z30: 0.3 | AA30: 0 | AG30: 0.6 | AN30: =AG30 -> 0.6 | AO30: =AN30 -> 0.6 | AP30: 0.4 | AQ30: 0 | AW30: 0.6 | BD30: =AW30 -> 0.6 | BE30: =AW30 -> 0.6 | BF30: 0.4 | BG30: 0 | BM30: 0.6 | BT30: 0.6 | BU30: 0.6 | BV30: 0.4 | BW30: 0
A31: 01 | B31: 02 | C31: 04 | D31: Civilinės būklės aktų registravimas | E31: 01 | F31: 188718528 | G31: A2 | Q31: 26.3 | X31: =Q31 -> 26.3 | Y31: =Q31 -> 26.3 | Z31: 18.2 | AA31: 0 | AG31: 26.3 | AN31: =AG31 -> 26.3 | AO31: =AG31 -> 26.3 | AP31: 18.2 | AQ31: 0 | AW31: 26.3 | BD31: =AW31 -> 26.3 | BE31: =AW31 -> 26.3 | BF31: 18.2 | BG31: 0 | BM31: 26.3 | BT31: =BM31 -> 26.3 | BU31: =BM31 -> 26.3 | BV31: 18.2 | BW31: 0 | BX31: Asmenų, gavusių paslaugas, skaičius | BY31: 4132 | BZ31: 4132 | CA31: 4132 | CB31: 4132
BX32: Užregistruotų aktų skaičius, vnt | BY32: 4357 | BZ32: 4357 | CA32: 4357 | CB32: 4357
BX33: Saugomų bylų archyve skaičius, vnt | BY33: 929 | BZ33: 916 | CA33: 942 | CB33: 942
BX34: Deklaravusių gyvenamąją vietą asmenų skaičius, vnt | BY34: 2482 | BZ34: 2478 | CA34: 2482 | CB34: 2482
A35: 01 | B35: 02 | C35: 05 | D35: Savivaldybei priskirtų archyvinių dokumentų tvarkymas | E35: 01 | F35: 188718528 | G35: A3 | Q35: 9 | X35: =SUM(P35:Q35) -> 9 | Y35: =X35 -> 9 | Z35: 6.2 | AA35: 0 | AG35: 9 | AN35: =SUM(AF35:AG35) -> 9 | AO35: =AN35 -> 9 | AP35: 6.2 | AQ35: 0 | AW35: 9 | BD35: =SUM(AV35:AW35) -> 9 | BE35: =BD35 -> 9 | BF35: 6.2 | BG35: 0 | BM35: 9 | BT35: =SUM(BL35:BM35) -> 9 | BU35: =BT35 -> 9 | BV35: 6.2 | BW35: 0 | BX35: Saugomų dokumentų kiekis, tiesinių metrų lentynų | BY35: 381.68 | BZ35: 381.68 | CA35: 381.68 | CB35: 381.68
A36: 01 | B36: 02 | C36: 06 | D36: Civilinė sauga | E36: 02 | F36: 188718528 | G36: A3 | Q36: 15.8 | X36: =Q36 -> 15.8 | Y36: =Q36 -> 15.8 | Z36: 9.8 | AA36: 0 | AG36: 16.8 | AN36: =AG36 -> 16.8 | AO36: =AN36 -> 16.8 | AP36: 9.8 | AQ36: 0 | AW36: 16.8 | BD36: =AW36 -> 16.8 | BE36: =AW36 -> 16.8 | BF36: 9.8 | BG36: 0 | BM36: 16.8 | BT36: =BM36 -> 16.8 | BU36: =BM36 -> 16.8 | BV36: 9.8 | BW36: 0 | BX36: Ekstremalių situacijų skaičius, vnt | BY36: 3 | BZ36: 3 | CA36: 3 | CB36: 3
A37: 01 | B37: 02 | C37: 07 | D37: Valstybinės kalbos vartojimo ir taisyklingumo kontrolė | E37: 01 | F37: 188718528 | G37: A3 | Q37: 7.07 | X37: =7.1 -> 7.1 | Y37: =Q37 -> 7.07 | Z37: 5.4 | AA37: 0 | AG37: 7.07 | AN37: =7.1 -> 7.1 | AO37: =AG37 -> 7.07 | AP37: 5.4 | AQ37: 0 | AW37: 7.07 | BD37: =7.1 -> 7.1 | BE37: =AW37 -> 7.07 | BF37: 5.4 | BG37: 0 | BM37: 7.07 | BT37: =7.1 -> 7.1 | BU37: =BM37 -> 7.07 | BV37: 5.4 | BW37: 0
A38: 01 | B38: 02 | C38: 08 | D38: Dalyvavimas rengiant ir vykdant mobilizaciją | E38: 02 | F38: 188718528 | G38: A3 | Q38: 4.1 | X38: =Q38 -> 4.1 | Y38: =Q38 -> 4.1 | Z38: 2.8 | AA38: 0 | AG38: 5.1 | AN38: =AG38 -> 5.1 | AO38: =AG38 -> 5.1 | AP38: 2.9 | AQ38: 0 | AW38: 5.1 | BD38: =AW38 -> 5.1 | BE38: =BD38 -> 5.1 | BF38: 2.9 | BG38: 0 | BM38: 5.1 | BT38: =BM38 -> 5.1 | BU38: =BT38 -> 5.1 | BV38: 2.9 | BW38: 0 | BX38: Mobilizacijos plano rengimas ir tikslinimas, vnt | BY38: 1 | BZ38: 1 | CA38: 1 | CB38: 1
BX39: Ataskaitų, susijusių su mobilizacija, ruošimas, vnt | BY39: 2 | BZ39: 2 | CA39: 2 | CB39: 2
A40: 01 | B40: 02 | C40: Iš viso uždaviniui | H40: =SUM(H28:H37) -> 0 | I40: =SUM(I28:I37) -> 0 | J40: =SUM(J28:J37) -> 0 | K40: =SUM(K28:K37) -> 0 | Q40: =SUM(Q28:Q39) -> 74.17 | X40: =SUM(X28:X39) -> 74.2 | Y40: =SUM(Y28:Y39) -> 74.17 | Z40: =SUM(Z28:Z39) -> 45.4 | AA40: =SUM(AA28:AA39) -> 0 | AG40: =SUM(AG28:AG39) -> 76.47 | AN40: =SUM(AN28:AN39) -> 76.5 | AO40: =SUM(AO28:AO39) -> 76.47 | AP40: =SUM(AP28:AP39) -> 45.7 | AQ40: =SUM(AQ28:AQ39) -> 0 | AW40: =SUM(AW28:AW39) -> 76.47 | BD40: =SUM(BD28:BD39) -> 76.5 | BE40: =SUM(BE28:BE39) -> 76.47 | BF40: =SUM(BF28:BF39) -> 45.7 | BG40: =SUM(BG28:BG39) -> 0 | BM40: =SUM(BM28:BM39) -> 76.47 | BT40: =SUM(BT28:BT39) -> 76.5 | BU40: =SUM(BU28:BU39) -> 76.47 | BV40: =SUM(BV28:BV39) -> 45.7 | BW40: =SUM(BW28:BW39) -> 0
A41: 01 | B41: 03 | C41: Užtikrinti finansavimą nenumatytoms išlaidoms dengti
A42: 01 | B42: 03 | C42: 01 | D42: Savivaldybės administracijos direktoriaus rezervo tvarkymo programa | E42: 01 | F42: 188718528 | G42: A0 | P42: 29 | X42: =P42 -> 29 | Y42: =P42 -> 29 | Z42: 0 | AA42: 0 | AF42: 29 | AN42: =AF42 -> 29 | AO42: =AF42 -> 29 | AP42: 0 | AQ42: 0 | AV42: 29 | BD42: =AV42 -> 29 | BE42: =AV42 -> 29 | BF42: 0 | BG42: 0 | BL42: 29 | BT42: =BL42 -> 29 | BU42: =BT42 -> 29 | BV42: 0 | BW42: 0 | BX42: Savivaldybės administracijos direktoriaus rezervas, dydis, patvirtintas savivaldybės biudžeto asignavimų sumos, % | BY42: 0.17 | BZ42: 0.16 | CA42: 0.17 | CB42: 0.17
A43: 01 | B43: 03 | C43: Iš viso uždaviniui | H43: =H42 -> 0 | I43: =I42 -> 0 | J43: =J42 -> 0 | K43: =K42 -> 0 | P43: =SUM(P42) -> 29 | X43: =SUM(X42) -> 29 | Y43: =SUM(Y42) -> 29 | Z43: =SUM(Z42) -> 0 | AA43: =SUM(AA42) -> 0 | AF43: =SUM(AF42) -> 29 | AN43: =SUM(AN42) -> 29 | AO43: =SUM(AO42) -> 29 | AP43: =SUM(AP42) -> 0 | AQ43: =SUM(AQ42) -> 0 | AV43: =SUM(AV42) -> 29 | BD43: =SUM(BD42) -> 29 | BE43: =SUM(BE42) -> 29 | BF43: =SUM(BF42) -> 0 | BG43: =SUM(BG42) -> 0 | BH43: =SUM(BH42) -> 0 | BI43: =SUM(BI42) -> 0 | BJ43: =SUM(BJ42) -> 0 | BK43: =SUM(BK42) -> 0 | ... BW43: =SUM(BW42) -> 0
A44: 01 | B44: 04 | C44: Narystės mokesčių mokėjimas
...
