Workbook

Sheet 2 lentele tūkst.Lt
CA4: 2 lentelė
A5: 2015-2017 METŲ VAIKŲ IR JAUNIMO SOCIALIZACIJOS PROGRAMOS
A6: TIKSLŲ, UŽDAVINIŲ IR PRIEMONIŲ IŠLAIDŲ SUVESTINĖ
CA8: tūkst. Lt
A10: Programos tikslo kodas | B10: Uždavinio kodas | C10: Priemonės kodas | D10: Priemonės pavadinimas | E10: Funkcinės klasifikacijos kodas | F10: Asignavimų valdytojo kodas | G10: Priemonės vykdytojo kodas | H10: 2014 | AB10: 2015 | AR10: 2016 | BH10: 2017 | BX10: Uždavinio vertinimo kriterijus
H11: Lėšos pagal finansavimo šaltinius | T11: Savivaldybės biudžeto patvirtinti asignavimai | X11: 2012 m. išlaidų projektas | AB11: Lėšos pagal finansavimo šaltinius | AN11: Numatomi Savivaldybės biudžeto asignavimai | AR11: Lėšos pagal finansavimo šaltinius | BD11: Numatomi Savivaldybės biudžeto asignavimai | BH11: Lėšos pagal finansavimo šaltinius | BT11: Numatomi Savivaldybės biudžeto asignavimai | BX11: Pavadinimas | BY11: Metai
H12: Valstybės biudžetas | L12: Savivaldybės biudžetas | P12: ES lėšos | Q12: Kitos lėšos | T12: Iš viso | U12: Išlaidoms | W12: Turtui įsigyti ir finansiniams įsipareigojimams vykdyti | X12: Iš viso | Y12: Išlaidoms | AA12: Turtui įsigyti ir finansiniams įsipareigojimams vykdyti | AB12: Valstybės biudžetas | AF12: Savivaldybės biudžetas | AJ12: ES lėšos | AK12: Kitos lėšos | AN12: Iš viso | AO12: Išlaidoms | AQ12: Turtui įsigyti ir finansiniams įsipareigojimams vykdyti | AR12: Valstybės biudžetas | AV12: Savivaldybės biudžetas | AZ12: ES lėšos | BA12: Kitos lėšos | BD12: Iš viso | BE12: Išlaidoms | BG12: Turtui įsigyti ir finansiniams įsipareigojimams vykdyti | BH12: Valstybės biudžetas | BL12: Savivaldybės biudžetas | BP12: ES lėšos | BQ12: Kitos lėšos | BT12: Iš viso | BU12: Išlaidoms | BW12: Turtui įsigyti ir finansiniams įsipareigojimams vykdyti | BY12: 2014 | BZ12: 2015 | CA12: 2016 | CB12: 2017
H13: Valstybės biudžetas | I13: Kelių priežiūros ir plėtros programos lėšos | J13: VIP lėšos | K13: Privalomojo sveikatos draudimo lėšos | L13: Savivaldybės biudžetas | M13: Valstybės biudžeto spec. tikslinė dotacija | N13: Aplinkos apsaugos rėmimo spec. programa | O13: Biudžetinių įstaigų pajamos | Q13: Paskolos lėšos | R13: Privatizavimo fondo lėšos | S13: Kiti finansavimo šaltiniai | U13: Iš viso | V13: Iš jų - darbo užmokesčiui | Y13: Iš viso | Z13: Iš jų - darbo užmokesčiui | AB13: Valstybės biudžetas | AC13: Kelių priežiūros ir plėtros programos lėšos | AD13: VIP lėšos | AE13: Privalomojo sveikatos draudimo lėšos | AF13: Savivaldybės biudžetas | AG13: Valstybės biudžeto spec. tikslinė dotacija | AH13: Aplinkos apsaugos rėmimo spec. programa | AI13: Biudžetinių įstaigų pajamos | AK13: Paskolos lėšos | AL13: Privatizavimo fondo lėšos | AM13: Kiti finansavimo šaltiniai | AO13: Iš viso | AP13: Iš jų - darbo užmokesčiui | AR13: Valstybės biudžetas | AS13: Kelių priežiūros ir plėtros programos lėšos | AT13: VIP lėšos | AU13: Privalomojo sveikatos draudimo lėšos | AV13: Savivaldybės biudžetas | AW13: Valstybės biudžeto spec. tikslinė dotacija | AX13: Aplinkos apsaugos rėmimo spec. programa | AY13: Biudžetinių įstaigų pajamos | BA13: Paskolos lėšos | BB13: Privatizavimo fondo lėšos | BC13: Kiti finansavimo šaltiniai | BE13: Iš viso | BF13: Iš jų - darbo užmokesčiui | BH13: Valstybės biudžetas | BI13: Kelių priežiūros ir plėtros programos lėšos | BJ13: VIP lėšos | BK13: Privalomojo sveikatos draudimo lėšos | BL13: Savivaldybės biudžetas | BM13: Valstybės biudžeto spec. tikslinė dotacija | BN13: Aplinkos apsaugos rėmimo spec. programa | BO13: Biudžetinių įstaigų pajamos | BQ13: Paskolos lėšos | BR13: Privatizavimo fondo lėšos | BS13: Kiti finansavimo šaltiniai | BU13: Iš viso | BV13: Iš jų - darbo užmokesčiui
A14: 01 PROGRAMA.VAIKŲ IR JAUNIMO SOCIALIZACIJA
A15: 01 | B15: Efektyviai užtikrinti vaiko teisių apsaugą Alytaus rajone
A16: 01 | B16: 01 | C16: Užtikrinti pagal kompetenciją įstatymų ir teisės aktų nustatyta tvarka visų savivaldybės teritorijoje gyvenančių vaikų teisių ir teisėtų interesų apsaugą
A17: 01 | B17: 01 | C17: 01 | D17: Vaiko teisių apsaugos užtikrinimas | E17: 10 | F17: 188718528 | G17: A17 | M17: 212.9 | T17: =M17 -> 212.9 | U17: =T17 -> 212.9 | V17: 145.5 | W17: 0 | X17: 0 | Y17: 0 | Z17: 0 | AA17: 0 | AG17: =0 -> 0 | AN17: =AG17 -> 0 | AO17: =0 -> 0 | AP17: 0 | AQ17: 0 | AW17: 0 | BD17: =AW17 -> 0 | BE17: =AW17 -> 0 | BF17: 0 | BG17: 0 | BM17: 0 | BT17: =BM17 -> 0 | BU17: =BM17 -> 0 | BV17: 0 | BW17: 0 | BX17: Skirta globa vaikų globos institucijose, vnt. | BY17: 7 | BZ17: 17 | CA17: 12 | CB17: 10
BX18: Skirta globa šeimoje, vnt. | BY18: 8 | BZ18: 19 | CA18: 15 | CB18: 18
BX19: Pareigybių skaičius, vnt. | BY19: 4 | BZ19: 4 | CA19: 4 | CB19: 4
BX20: Kvalifikacijos kėlimo renginiai, mokymai, vnt. | BY20: 1 | BZ20: 5 | CA20: 6 | CB20: 6
A21: 01 | B21: 01 | C21: Iš viso uždaviniui | M21: =SUM(M17:M20) -> 212.9 | T21: =SUM(T17:T20) -> 212.9 | U21: =SUM(U17:U20) -> 212.9 | V21: =SUM(V17:V20) -> 145.5 | W21: =SUM(W17:W20) -> 0
A22: 01 | B22: Iš viso tikslui | M22: =M21 -> 212.9 | T22: =T21 -> 212.9 | U22: =U21 -> 212.9 | V22: =V21 -> 145.5 | W22: =W21 -> 0 | X22: =X21 -> 0 | Y22: =Y21 -> 0 | Z22: =Z21 -> 0 | AA22: =AA21 -> 0
A23: 01 | B23: 01 | C23: Sudaryti sąlygas formuotis jauno žmogaus asmenybei
A24: 01 | B24: 01 | C24: 01 | D24: Jaunimo teisių apsaugos užtikrinimas | E24: 10 | F24: 188718528 | G24: A10 | M24: 44.5 | T24: =M24 -> 44.5 | U24: =M24 -> 44.5 | V24: 25.9 | W24: 0 | AG24: ='2 lentele tūkst.Lt'!AG24/3.4528 -> 0 | AN24: =AG24 -> 0 | AO24: =AG24 -> 0 | AP24: 0 | AQ24: 0 | AW24: =0 -> 0 | BD24: =AW24 -> 0 | BE24: =AW24 -> 0 | BF24: 0 | BG24: 0 | BM24: 0 | BT24: =BM24 -> 0 | BU24: =BM24 -> 0 | BV24: 0 | BW24: 0 | BX24: Etatų skaičius,vnt | BY24: 1 | BZ24: 1 | CA24: 1 | CB24: 1
BX25: Parengta ir įgyvendinta jaunimo verslumo skatinimo programa, konkurso organizavimas, vnt | BY25: 0 | BZ25: 1 | CA25: 1 | CB25: 1
BX26: Jaunimo organizacijų/klubų steigimas,vnt | BY26: 1 | BZ26: 1 | CA26: 1 | CB26: 1
BX27: Atvirų jaunimo erdvių sukūrimas, vnt | BZ27: 8 | CA27: 1 | CB27: 1
BX28: Jaunimo organizacijų mugės organizavimas,vnt | BZ28: 1 | CA28: 1 | CB28: 1
BX29: Kitų renginių organizavimas,vnt | BY29: 9 | BZ29: 10 | CA29: 11 | CB29: 12
A30: 01 | B30: 01 | C30: Iš viso uždaviniui | M30: =SUM(M24:M26) -> 44.5 | T30: =SUM(T24:T26) -> 44.5 | U30: =SUM(U24:U26) -> 44.5 | V30: =SUM(V24:V26) -> 25.9 | W30: =SUM(W24:W26) -> 0 | X30: =SUM(X24:X26) -> 0 | Y30: =SUM(Y24:Y26) -> 0 | Z30: =SUM(Z24:Z26) -> 0 | AA30: =SUM(AA24:AA26) -> 0 | AG30: =SUM(AG24:AG26) -> 0 | AN30: =SUM(AN24:AN26) -> 0 | AO30: =SUM(AO24:AO26) -> 0 | AP30: =SUM(AP24:AP26) -> 0 | AQ30: =SUM(AQ24:AQ26) -> 0 | AW30: =SUM(AW24:AW26) -> 0 | BD30: =SUM(BD24:BD26) -> 0 | BE30: =SUM(BE24:BE26) -> 0 | BF30: =SUM(BF24:BF26) -> 0 | BG30: =SUM(BG24:BG26) -> 0 | BM30: =SUM(BM24:BM26) -> 0 | BT30: =SUM(BT24:BT26) -> 0 | BU30: =SUM(BU24:BU26) -> 0 | BV30: =SUM(BV24:BV26) -> 0 | BW30: =SUM(BW24:BW26) -> 0
A31: 01 | B31: Iš viso tikslui | M31: =M30 -> 44.5 | T31: =T30 -> 44.5 | U31: =U30 -> 44.5 | V31: =V30 -> 25.9 | W31: 0 | X31: =X30 -> 0 | Y31: =Y30 -> 0 | Z31: =Z30 -> 0 | AA31: =AA30 -> 0 | AG31: =AG30 -> 0 | AN31: =AN30 -> 0 | AO31: =AO30 -> 0 | AP31: =AP30 -> 0 | AQ31: 0 | AW31: =AW30 -> 0 | BD31: =BD30 -> 0 | BE31: =BE30 -> 0 | BF31: =BF30 -> 0 | BG31: 0 | BM31: =BM30 -> 0 | BT31: =BT30 -> 0 | BU31: =BU30 -> 0 | BV31: =BV30 -> 0 | BW31: 0
A32: 01 | B32: Iš viso programai | M32: =M22+M31 -> 257.4 | T32: =T22+T31 -> 257.4 | U32: =U22+U31 -> 257.4 | V32: =V22+V31 -> 171.4 | W32: =W22+W31 -> 0 | X32: =X22+X31 -> 0 | Y32: =Y22+Y31 -> 0 | Z32: =Z22+Z31 -> 0 | AA32: =AA22+AA31 -> 0 | AG32: =AG22+AG31 -> 0 | AN32: =AN22+AN31 -> 0 | AO32: =AO22+AO31 -> 0 | AP32: =AP22+AP31 -> 0 | AQ32: =AQ22+AQ31 -> 0 | AW32: =AW22+AW31 -> 0 | BD32: =BD22+BD31 -> 0 | BE32: =BE22+BE31 -> 0 | BF32: =BF22+BF31 -> 0 | BG32: =BG22+BG31 -> 0 | BM32: =BM22+BM31 -> 0 | BT32: =BT22+BT31 -> 0 | BU32: =BU22+BU31 -> 0 | BV32: =BV22+BV31 -> 0 | BW32: =BW22+BW31 -> 0

Sheet 2 lentele
A3: 2015-2017 METŲ VAIKŲ IR JAUNIMO SOCIALIZACIJOS PROGRAMOS
A4: TIKSLŲ, UŽDAVINIŲ IR PRIEMONIŲ IŠLAIDŲ SUVESTINĖ
CA5: 2 lentelė
CA7: tūkst. Eur
A9: Programos tikslo kodas | B9: Uždavinio kodas | C9: Priemonės kodas | D9: Priemonės pavadinimas | E9: Funkcinės klasifikacijos kodas | F9: Asignavimų valdytojo kodas | G9: Priemonės vykdytojo kodas | H9: 2014 | AB9: 2015 | AR9: 2016 | BH9: 2017 | BX9: Uždavinio vertinimo kriterijus
H10: Lėšos pagal finansavimo šaltinius | T10: Savivaldybės biudžeto patvirtinti asignavimai | X10: 2012 m. išlaidų projektas | AB10: Lėšos pagal finansavimo šaltinius | AN10: Savivaldybės biudžeto asignavimų planas | AR10: Lėšos pagal finansavimo šaltinius | BD10: Numatomi Savivaldybės biudžeto asignavimai | BH10: Lėšos pagal finansavimo šaltinius | BT10: Numatomi Savivaldybės biudžeto asignavimai | BX10: Pavadinimas | BY10: Metai
H11: Valstybės biudžetas | L11: Savivaldybės biudžetas | P11: ES lėšos | Q11: Kitos lėšos | T11: Iš viso | U11: Išlaidoms | W11: Turtui įsigyti ir finansiniams įsipareigojimams vykdyti | X11: Iš viso | Y11: Išlaidoms | AA11: Turtui įsigyti ir finansiniams įsipareigojimams vykdyti | AB11: Valstybės biudžetas | AF11: Savivaldybės biudžetas | AJ11: ES lėšos | AK11: Kitos lėšos | AN11: Iš viso | AO11: Išlaidoms | AQ11: Turtui įsigyti ir finansiniams įsipareigojimams vykdyti | AR11: Valstybės biudžetas | AV11: Savivaldybės biudžetas | AZ11: ES lėšos | BA11: Kitos lėšos | BD11: Iš viso | BE11: Išlaidoms | BG11: Turtui įsigyti ir finansiniams įsipareigojimams vykdyti | BH11: Valstybės biudžetas | BL11: Savivaldybės biudžetas | BP11: ES lėšos | BQ11: Kitos lėšos | BT11: Iš viso | BU11: Išlaidoms | BW11: Turtui įsigyti ir finansiniams įsipareigojimams vykdyti | BY11: 2014 | BZ11: 2015 | CA11: 2016 | CB11: 2017
H12: Valstybės biudžeto lėšos | I12: Kelių priežiūros ir plėtros programos lėšos | J12: VIP lėšos | K12: Privalomojo sveikatos draudimo lėšos | L12: Savivaldybės biudžetas | M12: Valstybės biudžeto spec. tikslinė dotacija | N12: Aplinkos apsaugos rėmimo spec. programa | O12: Biudžetinių įstaigų pajamos | Q12: Paskolos lėšos | R12: Privatizavimo fondo lėšos | S12: Kiti finansavimo šaltiniai | U12: Iš viso | V12: Iš jų - darbo užmokesčiui | Y12: Iš viso | Z12: Iš jų - darbo užmokesčiui | AB12: Valstybės biudžeto lėšos | AC12: Kelių priežiūros ir plėtros programos lėšos | AD12: VIP lėšos | AE12: Privalomojo sveikatos draudimo lėšos | AF12: Savivaldybės biudžetas | AG12: Valstybės biudžeto spec. tikslinė dotacija | AH12: Aplinkos apsaugos rėmimo spec. programa | AI12: Biudžetinių įstaigų pajamos | AK12: Paskolos lėšos | AL12: Privatizavimo fondo lėšos | AM12: Kiti finansavimo šaltiniai | AO12: Iš viso | AP12: Iš jų - darbo užmokesčiui | AR12: Valstybės biudžeto lėšos | AS12: Kelių priežiūros ir plėtros programos lėšos | AT12: VIP lėšos | AU12: Privalomojo sveikatos draudimo lėšos | AV12: Savivaldybės biudžetas | AW12: Valstybės biudžeto spec. tikslinė dotacija | AX12: Aplinkos apsaugos rėmimo spec. programa | AY12: Biudžetinių įstaigų pajamos | BA12: Paskolos lėšos | BB12: Privatizavimo fondo lėšos | BC12: Kiti finansavimo šaltiniai | BE12: Iš viso | BF12: Iš jų - darbo užmokesčiui | BH12: Valstybės biudžeto lėšos | BI12: Kelių priežiūros ir plėtros programos lėšos | BJ12: VIP lėšos | BK12: Privalomojo sveikatos draudimo lėšos | BL12: Savivaldybės biudžetas | BM12: Valstybės biudžeto spec. tikslinė dotacija | BN12: Aplinkos apsaugos rėmimo spec. programa | BO12: Biudžetinių įstaigų pajamos | BQ12: Paskolos lėšos | BR12: Privatizavimo fondo lėšos | BS12: Kiti finansavimo šaltiniai | BU12: Iš viso | BV12: Iš jų - darbo užmokesčiui
A13: 01 PROGRAMA.VAIKŲ IR JAUNIMO SOCIALIZACIJA
A14: 01 | B14: Efektyviai vykdyti savivaldybei valstybės perduotą Vaikų teisių apsaugos funkciją
A15: 01 | B15: 01 | C15: Efektyviai teikti konsultacijas ir užtikrinti vaiko teisių ir teisėtų interesų atstovavimą
A16: 01 | B16: 01 | C16: 01 | D16: Vaiko teisių apsauga | E16: 10 | F16: 188718528 | G16: A17 | M16: 61.7 | T16: 61.7 | U16: 61.7 | V16: 42.1 | W16: 0 | X16: 0 | Y16: 0 | Z16: 0 | AA16: 0 | AG16: 61.9 | AN16: =AG16 -> 61.9 | AO16: =AG16 -> 61.9 | AP16: 44.6 | AQ16: 0 | AW16: 63 | BD16: =AW16 -> 63 | BE16: =AW16 -> 63 | BF16: 43.1 | BG16: 0 | BM16: 63 | BT16: =BM16 -> 63 | BU16: =BM16 -> 63 | BV16: 43.1 | BW16: 0 | BX16: Skirta globa šeimose, vnt. | BY16: 14 | BZ16: 17 | CA16: 20 | CB16: 24
BX17: Kvalifikacijos kėlimo renginiai, mokymai, vnt. | BY17: 6 | BZ17: 8 | CA17: 8 | CB17: 8
A18: 01 | B18: 01 | C18: Iš viso uždaviniui | M18: =SUM(M16:M17) -> 61.7 | T18: =SUM(T16:T17) -> 61.7 | U18: =SUM(U16:U17) -> 61.7 | V18: =SUM(V16:V17) -> 42.1 | W18: =SUM(W16:W17) -> 0 | X18: =SUM(X16:X17) -> 0 | Y18: =SUM(Y16:Y17) -> 0 | Z18: =SUM(Z16:Z17) -> 0 | AA18: =SUM(AA16:AA17) -> 0 | AG18: =SUM(AG16:AG17) -> 61.9 | AN18: =SUM(AN16:AN17) -> 61.9 | AO18: =SUM(AO16:AO17) -> 61.9 | AP18: =SUM(AP16:AP17) -> 44.6 | AQ18: =SUM(AQ16:AQ17) -> 0 | AW18: =AW16 -> 63 | BD18: =SUM(BD16:BD17) -> 63 | BE18: =SUM(BE16:BE17) -> 63 | BF18: =SUM(BF16:BF17) -> 43.1 | BG18: =SUM(BG16:BG17) -> 0 | BM18: =SUM(BM16:BM17) -> 63 | BT18: =SUM(BT16:BT17) -> 63 | BU18: =SUM(BU16:BU17) -> 63 | BV18: =SUM(BV16:BV17) -> 43.1 | BW18: =SUM(BW16:BW17) -> 0
A19: 01 | B19: Iš viso tikslui | M19: =M18 -> 61.7 | T19: =T18 -> 61.7 | U19: =U18 -> 61.7 | V19: =V18 -> 42.1 | W19: =W18 -> 0 | X19: =X18 -> 0 | Y19: =Y18 -> 0 | Z19: =Z18 -> 0 | AA19: =AA18 -> 0 | AG19: =AG18 -> 61.9 | AN19: =AN18 -> 61.9 | AO19: =AO18 -> 61.9 | AP19: =AP18 -> 44.6 | AQ19: =AQ18 -> 0 | AW19: =AW18 -> 63 | BD19: =BD18 -> 63 | BE19: =BE18 -> 63 | BF19: =BF18 -> 43.1 | BG19: =BG18 -> 0 | BM19: =BM18 -> 63 | BT19: =BT18 -> 63 | BU19: =BU18 -> 63 | BV19: =BV18 -> 43.1 | BW19: =BW18 -> 0
A20: 02 | B20: Efektyviai vykdyti savivaldybei valstybės perduotą Jaunimo teisių apsaugos funkciją
A21: 02 | B21: 01 | C21: Sudaryti sąlygas formuotis jauno žmogaus asmenybei
A22: 02 | B22: 01 | C22: 01 | D22: Jaunimo teisių apsauga | E22: 10 | F22: 188718528 | G22: A10 | M22: 12.9 | T22: =M22 -> 12.9 | U22: =M22 -> 12.9 | V22: 7.5 | W22: =ROUND('2 lentele tūkst.Lt'!W24/3.4528,1) -> 0 | AG22: 12.9 | AN22: =AG22 -> 12.9 | AO22: =AG22 -> 12.9 | AP22: 8.1 | AQ22: =ROUND('2 lentele tūkst.Lt'!AQ24/3.4528,1) -> 0 | AW22: 13.2 | BD22: =AW22 -> 13.2 | BE22: =AW22 -> 13.2 | BF22: 7.7 | BG22: =ROUND('2 lentele tūkst.Lt'!BG24/3.4528,1) -> 0 | BM22: 13.2 | BT22: 13.2 | BU22: 13.2 | BV22: 7.7 | BW22: =ROUND('2 lentele tūkst.Lt'!BW24/3.4528,1) -> 0 | BX22: Etatų skaičius,vnt | BY22: 1 | BZ22: 1 | CA22: 1 | CB22: 1
BX23: Parengta ir įgyvendinta jaunimo verslumo skatinimo programa, konkurso organizavimas, vnt | BY23: 0 | BZ23: 1 | CA23: 1 | CB23: 1
BX24: Jaunimo organizacijų/klubų steigimas,vnt | BY24: 0 | BZ24: 1 | CA24: 1 | CB24: 1
BX25: Atvirų jaunimo erdvių sukūrimas, vnt | BY25: 8 | BZ25: 1 | CA25: 1 | CB25: 1
BX26: Jaunimo organizacijų mugės organizavimas,vnt | BY26: 0 | BZ26: 1 | CA26: 1 | CB26: 1
BX27: Kitų renginių organizavimas,vnt | BY27: 10 | BZ27: 11 | CA27: 12 | CB27: 12
A28: 02 | B28: 01 | C28: Iš viso uždaviniui | M28: =SUM(M22:M24) -> 12.9 | T28: =SUM(T22:T24) -> 12.9 | U28: =SUM(U22:U24) -> 12.9 | V28: =SUM(V22:V24) -> 7.5 | W28: =SUM(W22:W24) -> 0 | X28: =SUM(X22:X24) -> 0 | Y28: =SUM(Y22:Y24) -> 0 | Z28: =SUM(Z22:Z24) -> 0 | AA28: =SUM(AA22:AA24) -> 0 | AG28: =SUM(AG22:AG24) -> 12.9 | AN28: =SUM(AN22:AN24) -> 12.9 | AO28: =SUM(AO22:AO24) -> 12.9 | AP28: =SUM(AP22:AP24) -> 8.1 | AQ28: =SUM(AQ22:AQ24) -> 0 | AW28: =SUM(AW22:AW24) -> 13.2 | BD28: =SUM(BD22:BD24) -> 13.2 | BE28: =SUM(BE22:BE24) -> 13.2 | BF28: =SUM(BF22:BF24) -> 7.7 | BG28: =SUM(BG22:BG24) -> 0 | BM28: =SUM(BM22:BM24) -> 13.2 | BT28: =SUM(BT22:BT24) -> 13.2 | BU28: =SUM(BU22:BU24) -> 13.2 | BV28: =SUM(BV22:BV24) -> 7.7 | BW28: =SUM(BW22:BW24) -> 0
A29: 02 | B29: Iš viso tikslui | M29: =M28 -> 12.9 | T29: =T28 -> 12.9 | U29: =U28 -> 12.9 | V29: =V28 -> 7.5 | W29: 0 | X29: =X28 -> 0 | Y29: =Y28 -> 0 | Z29: =Z28 -> 0 | AA29: =AA28 -> 0 | AG29: =AG28 -> 12.9 | AN29: =AN28 -> 12.9 | AO29: =AO28 -> 12.9 | AP29: =AP28 -> 8.1 | AQ29: 0 | AW29: =AW28 -> 13.2 | BD29: =BD28 -> 13.2 | BE29: =BE28 -> 13.2 | BF29: =BF28 -> 7.7 | BG29: 0 | BM29: =BM28 -> 13.2 | BT29: =BT28 -> 13.2 | BU29: =BU28 -> 13.2 | BV29: =BV28 -> 7.7 | BW29: 0
A30: 01 | B30: Iš viso programai | M30: =M19+M29 -> 74.6 | T30: =T19+T29 -> 74.6 | U30: =U19+U29 -> 74.6 | V30: =V19+V29 -> 49.6 | W30: =W19+W29 -> 0 | X30: =X19+X29 -> 0 | Y30: =Y19+Y29 -> 0 | Z30: =Z19+Z29 -> 0 | AA30: =AA19+AA29 -> 0 | AG30: =AG19+AG29 -> 74.8 | AN30: =AN19+AN29 -> 74.8 | AO30: =AO19+AO29 -> 74.8 | AP30: =AP19+AP29 -> 52.7 | AQ30: =AQ19+AQ29 -> 0 | AW30: =AW19+AW29 -> 76.2 | BD30: =BD19+BD29 -> 76.2 | BE30: =BE19+BE29 -> 76.2 | BF30: =BF19+BF29 -> 50.8 | BG30: =BG19+BG29 -> 0 | BM30: =BM19+BM29 -> 76.2 | BT30: =BT19+BT29 -> 76.2 | BU30: =BU19+BU29 -> 76.2 | BV30: =BV19+BV29 -> 50.8 | BW30: =BW19+BW29 -> 0
